BEGIN:VCALENDAR
VERSION:2.0
PRODID:-//Chesacanna - Enhanced Wellness - ECPv6.15.20//NONSGML v1.0//EN
CALSCALE:GREGORIAN
METHOD:PUBLISH
X-ORIGINAL-URL:https://www.chesacanna.com
X-WR-CALDESC:Events for Chesacanna - Enhanced Wellness
REFRESH-INTERVAL;VALUE=DURATION:PT1H
X-Robots-Tag:noindex
X-PUBLISHED-TTL:PT1H
BEGIN:VTIMEZONE
TZID:America/New_York
BEGIN:DAYLIGHT
TZOFFSETFROM:-0500
TZOFFSETTO:-0400
TZNAME:EDT
DTSTART:20240310T070000
END:DAYLIGHT
BEGIN:STANDARD
TZOFFSETFROM:-0400
TZOFFSETTO:-0500
TZNAME:EST
DTSTART:20241103T060000
END:STANDARD
BEGIN:DAYLIGHT
TZOFFSETFROM:-0500
TZOFFSETTO:-0400
TZNAME:EDT
DTSTART:20250309T070000
END:DAYLIGHT
BEGIN:STANDARD
TZOFFSETFROM:-0400
TZOFFSETTO:-0500
TZNAME:EST
DTSTART:20251102T060000
END:STANDARD
BEGIN:DAYLIGHT
TZOFFSETFROM:-0500
TZOFFSETTO:-0400
TZNAME:EDT
DTSTART:20260308T070000
END:DAYLIGHT
BEGIN:STANDARD
TZOFFSETFROM:-0400
TZOFFSETTO:-0500
TZNAME:EST
DTSTART:20261101T060000
END:STANDARD
END:VTIMEZONE
BEGIN:VEVENT
DTSTART;TZID=America/New_York:20250604T110000
DTEND;TZID=America/New_York:20250604T130000
DTSTAMP:20260424T162805
CREATED:20250530T173339Z
LAST-MODIFIED:20250530T173356Z
UID:15038-1749034800-1749042000@www.chesacanna.com
SUMMARY:EXOTIC ELEVATIONS POP-UP WED. 6/4!
DESCRIPTION:Stop by Chesacanna on Wednesday\, June 4th for a pop-up with Exotic Elevations from 11am-1pm! A rep will be here with swag\, educating everyone on their extract products! Plus we’ll have special discounts on all their products ALL DAY!
URL:https://www.chesacanna.com/event/exotic-elevations-pop-up-wed-6-4/
LOCATION:Chesacanna\, 10534 York Rd.\, Cockeysville\, MD\, 21030
END:VEVENT
BEGIN:VEVENT
DTSTART;TZID=America/New_York:20250605T110000
DTEND;TZID=America/New_York:20250605T130000
DTSTAMP:20260424T162805
CREATED:20250523T164924Z
LAST-MODIFIED:20250523T165110Z
UID:14993-1749121200-1749128400@www.chesacanna.com
SUMMARY:CURIO/EDIE PARKER POP-UP THURS. 6/5!
DESCRIPTION:Join us on Thursday\, June 5th from 11am-1pm for a vendor pop-up with Curio\, Edie Parker\, Dixie\, Happy Eddie\, Fuzed\, & Smokiez! A rep will be here educating everyone about their strains and products\, plus free swag and discounts on Curio products ALL DAY! \n\n\nPLUS Spend $50+ on Curio Brands NOW until from Sun. June 15th\, Get Entered to WIN a Blackstone Griddle + Curio Product Bundle!
URL:https://www.chesacanna.com/event/curio-edie-parker-pop-up-thurs-6-5/
LOCATION:Chesacanna\, 10534 York Rd.\, Cockeysville\, MD\, 21030
END:VEVENT
BEGIN:VEVENT
DTSTART;TZID=America/New_York:20250605T150000
DTEND;TZID=America/New_York:20250605T170000
DTSTAMP:20260424T162805
CREATED:20250530T172938Z
LAST-MODIFIED:20250530T172938Z
UID:15036-1749135600-1749142800@www.chesacanna.com
SUMMARY:IRIE WATAS WELLNESS SHOP POP-UP THURS. 6/5!
DESCRIPTION:Join us in the Wellness Shop Thursday\, June 5th from 3-5pm for an Irie Watas pop-up! Their reps will be on-site educating everyone on all their amazing fresh-pressed juice drinks. Make sure to stop by & say Hi!
URL:https://www.chesacanna.com/event/irie-watas-wellness-shop-pop-up-thurs-6-5/
LOCATION:Chesacanna\, 10534 York Rd.\, Cockeysville\, MD\, 21030
END:VEVENT
BEGIN:VEVENT
DTSTART;TZID=America/New_York:20250606T150000
DTEND;TZID=America/New_York:20250606T170000
DTSTAMP:20260424T162805
CREATED:20250529T164027Z
LAST-MODIFIED:20250529T164027Z
UID:15022-1749222000-1749229200@www.chesacanna.com
SUMMARY:BEEZLE POP-UP FRI. 6/6!
DESCRIPTION:Come to Chesacanna on Friday\, June 6th from 3-5pm for a pop-up with our friends from Beezle! A rep will be here with swag\, educating everyone on their brands and products\, and we’ll have discounts on their products ALL DAY!
URL:https://www.chesacanna.com/event/beezle-pop-up-fri-6-6/
LOCATION:Chesacanna\, 10534 YORK ROAD\, COCKEYSVILLE\, MD\, 21030\, United States
END:VEVENT
BEGIN:VEVENT
DTSTART;TZID=America/New_York:20250611T110000
DTEND;TZID=America/New_York:20250611T130000
DTSTAMP:20260424T162805
CREATED:20250530T194000Z
LAST-MODIFIED:20250530T194044Z
UID:15042-1749639600-1749646800@www.chesacanna.com
SUMMARY:1937/HI COLOR POP-UP WED. 6/11!
DESCRIPTION:Come to Chesacanna on Wednesday\, June 11th from 11am-1pm for a pop-up with our friends from 1937\, Hi Color\, HiAF\, Kings & Queens\, & Vireo! A rep will be here with swag\, educating everyone on their brands and products\, and we’ll have discounts on their products ALL DAY!
URL:https://www.chesacanna.com/event/1937-hi-color-pop-up-wed-6-11/
LOCATION:Chesacanna\, 10534 York Rd.\, Cockeysville\, MD\, 21030
END:VEVENT
BEGIN:VEVENT
DTSTART;TZID=America/New_York:20250612T110000
DTEND;TZID=America/New_York:20250612T130000
DTSTAMP:20260424T162805
CREATED:20250523T165017Z
LAST-MODIFIED:20250523T165017Z
UID:14995-1749726000-1749733200@www.chesacanna.com
SUMMARY:CURIO POP-UP THURS. 6/12!
DESCRIPTION:Join us on Thursday\, June 12th from 11am-1pm for a vendor pop-up with Curio\, Dixie\, Happy Eddie\, Edie Parker\, Fuzed\, & Smokiez! A rep will be here educating everyone about their strains and products\, plus free swag and discounts on Curio products ALL DAY! \n\n\nPLUS Spend $50+ on Curio Brands NOW until from Sun. June 15th\, Get Entered to WIN a Blackstone Griddle + Curio Product Bundle!
URL:https://www.chesacanna.com/event/curio-pop-up-thurs-6-12/
LOCATION:Chesacanna\, 10534 York Rd.\, Cockeysville\, MD\, 21030
END:VEVENT
BEGIN:VEVENT
DTSTART;TZID=America/New_York:20250613T160000
DTEND;TZID=America/New_York:20250613T180000
DTSTAMP:20260424T162805
CREATED:20250529T164303Z
LAST-MODIFIED:20250529T164303Z
UID:15025-1749830400-1749837600@www.chesacanna.com
SUMMARY:FADE CO POP-UP FRI. 6/13!
DESCRIPTION:Stop in on Friday\, June 13th from 4-6pm for a vendor pop-up with our friends from Fade Co.\, MORE\, Mind Right\, & Just Flower! A rep will be in the dispensary to talk about their products & giving out free swag to customers! Plus we’ll have great discounts on their products\, ALL DAY!
URL:https://www.chesacanna.com/event/fade-co-pop-up-fri-6-13/
LOCATION:Chesacanna\, 10534 YORK ROAD\, COCKEYSVILLE\, MD\, 21030\, United States
END:VEVENT
BEGIN:VEVENT
DTSTART;TZID=America/New_York:20250614T120000
DTEND;TZID=America/New_York:20250614T170000
DTSTAMP:20260424T162805
CREATED:20250611T132450Z
LAST-MODIFIED:20250611T132450Z
UID:15120-1749902400-1749920400@www.chesacanna.com
SUMMARY:WINE & FOOD FESTIVAL @ FAIRGROUNDS SAT. 6/14!
DESCRIPTION:The Wellness Shop will be at the Wine & Food Festival in the Maryland Fairgrounds Saturday\, June 14th from 12-5pm! Enjoy a day filled with lots of great wine\, great food\, & great vibes! Stop by our tent to learn all about our Wellness Shop products we carry & MORE! \nGET YOUR TICKETS HERE!
URL:https://www.chesacanna.com/event/wine-food-festival-fairgrounds-sat-6-14/
LOCATION:Maryland State Fairgrounds\, 2200 York Rd\, Lutherville-Timonium\, MD\, 21093\, United States
END:VEVENT
BEGIN:VEVENT
DTSTART;TZID=America/New_York:20250617T150000
DTEND;TZID=America/New_York:20250617T170000
DTSTAMP:20260424T162805
CREATED:20250613T164538Z
LAST-MODIFIED:20250613T164538Z
UID:15128-1750172400-1750179600@www.chesacanna.com
SUMMARY:MPX POP-UP TUES. 6/17!
DESCRIPTION:Stop by Chesacanna on Tuesday\, June 17th for a pop-up with MPX\, Black Label\, & Cheetah from 3-5pm! A rep will be here with swag\, educating everyone on their products! Plus we’ll have special discounts on all their products ALL DAY!
URL:https://www.chesacanna.com/event/mpx-pop-up-tues-6-17/
LOCATION:Chesacanna\, 10534 York Rd.\, Cockeysville\, MD\, 21030
END:VEVENT
BEGIN:VEVENT
DTSTART;TZID=America/New_York:20250618T120000
DTEND;TZID=America/New_York:20250618T140000
DTSTAMP:20260424T162805
CREATED:20250529T164524Z
LAST-MODIFIED:20250529T164524Z
UID:15028-1750248000-1750255200@www.chesacanna.com
SUMMARY:AIRO POP-UP WED. 6/18!
DESCRIPTION:Stop in on Wednesday\, June 18th from 12pm-2pm for a pop-up with our friends from Airo! An Airo rep will be at the dispensary to talk about their products and strains. PLUS we will have discounts on Airo ALL DAY!
URL:https://www.chesacanna.com/event/airo-pop-up-wed-6-18/
LOCATION:Chesacanna\, 10534 YORK ROAD\, COCKEYSVILLE\, MD\, 21030\, United States
END:VEVENT
BEGIN:VEVENT
DTSTART;TZID=America/New_York:20250618T150000
DTEND;TZID=America/New_York:20250618T170000
DTSTAMP:20260424T162805
CREATED:20250530T194516Z
LAST-MODIFIED:20250605T130032Z
UID:15048-1750258800-1750266000@www.chesacanna.com
SUMMARY:EVERMORE POP-UP WED. 6/18!
DESCRIPTION:Make sure to stop by Chesacanna on Wednesday\, June 18th from 3pm-5pm for a pop-up with our friends from Evermore\, Tall\, & Happy J’s! They’ll be here with swag\, educating everyone on their products\, and we’ll be featuring their brand ALL DAY!
URL:https://www.chesacanna.com/event/evermore-pop-up-thurs-6-26/
LOCATION:Chesacanna\, 10534 York Rd.\, Cockeysville\, MD\, 21030
END:VEVENT
BEGIN:VEVENT
DTSTART;TZID=America/New_York:20250619T123000
DTEND;TZID=America/New_York:20250619T143000
DTSTAMP:20260424T162805
CREATED:20250529T165131Z
LAST-MODIFIED:20250529T165131Z
UID:15030-1750336200-1750343400@www.chesacanna.com
SUMMARY:HELLAVATED/STRANE POP-UP THURS. 6/19!
DESCRIPTION:Stop by Chesacanna on Thursday\, June 19th from 12:30-2:30pm for a pop-up with our friends from Holistic Industries! They’ll be here withs swag\, educating everyone\, and we’ll be featuring their brands\, Strane\, Garcia Hand Picked\, Hellavated\, Liberty\, DO Drops\, & Cannaceutica ALL DAY!
URL:https://www.chesacanna.com/event/hellavated-strane-pop-up-thurs-6-19/
LOCATION:Chesacanna\, 10534 YORK ROAD\, COCKEYSVILLE\, MD\, 21030\, United States
END:VEVENT
BEGIN:VEVENT
DTSTART;TZID=America/New_York:20250619T150000
DTEND;TZID=America/New_York:20250619T180000
DTSTAMP:20260424T162805
CREATED:20250618T170603Z
LAST-MODIFIED:20250618T170603Z
UID:15155-1750345200-1750356000@www.chesacanna.com
SUMMARY:COAST POP-UP THURS. 6/19!
DESCRIPTION:Join us and our friends at COAST on Thursday\, June 19th from 3pm-6pm for a vendor pop-up! COAST is a NEW edible brand to hit the Maryland market and are exclusively at Chesacanna. Chat with a COAST rep all about their chews\, plus we’ll have specials ALL DAY on their chews!
URL:https://www.chesacanna.com/event/coast-pop-up-thurs-6-19/
LOCATION:Chesacanna\, 10534 York Rd.\, Cockeysville\, MD\, 21030
END:VEVENT
BEGIN:VEVENT
DTSTART;TZID=America/New_York:20250624T170000
DTEND;TZID=America/New_York:20250624T190000
DTSTAMP:20260424T162805
CREATED:20250610T135610Z
LAST-MODIFIED:20250610T135610Z
UID:15104-1750784400-1750791600@www.chesacanna.com
SUMMARY:EDIBLES & RATIOS CLASS W/ WYLD TUES. 6/24!
DESCRIPTION:Join us for our Edibles & Ratios Class with our friends at Wyld Tuesday\, June 24th from 5-7pm! \nLearn all about ratios\, cannabinoids\, & MORE from the Nation’s Top Edible Brand! PLUS we’ll be making some yummy mocktails with Wyld’s CBD drinks. \nAll Attendees will get TWO Wyld 10mg Gummies for $1 each! \nTickets are $10 + doubles as in-store credit that night! Spots are limited. \nGET YOUR TICKETS HERE!
URL:https://www.chesacanna.com/event/edibles-ratios-class-w-wyld-tues-6-24/
LOCATION:Chesacanna\, 10534 YORK ROAD\, COCKEYSVILLE\, MD\, 21030\, United States
END:VEVENT
BEGIN:VEVENT
DTSTART;TZID=America/New_York:20250625T160000
DTEND;TZID=America/New_York:20250625T180000
DTSTAMP:20260424T162805
CREATED:20250624T142913Z
LAST-MODIFIED:20250624T142913Z
UID:15194-1750867200-1750874400@www.chesacanna.com
SUMMARY:ROVE POP-UP WED. 6/25!
DESCRIPTION:Join us for a pop-up from our friends at ROVE Wednesday\, June 25th from 4-6pm! This new brand has hit the Maryland market and is EXCLUSIVELY at Chesacanna! A rep will be here talking about their live resin diamonds disposables and vape carts. PLUS we’ll have specials on their products ALL DAY!
URL:https://www.chesacanna.com/event/rove-pop-up-wed-6-25/
LOCATION:Chesacanna\, 10534 York Rd.\, Cockeysville\, MD\, 21030
END:VEVENT
BEGIN:VEVENT
DTSTART;TZID=America/New_York:20250626T120000
DTEND;TZID=America/New_York:20250626T140000
DTSTAMP:20260424T162805
CREATED:20250606T194220Z
LAST-MODIFIED:20250606T194220Z
UID:15085-1750939200-1750946400@www.chesacanna.com
SUMMARY:GROW WEST POP-UP THURS. 6/26!
DESCRIPTION:Join us on Thursday\, June 26th for a vendor pop-up with Grow West from 12pm-2pm! A rep will be here informing everyone on their products\, plus we’ll have specials on their products ALL DAY! Make sure to stop by & say High!
URL:https://www.chesacanna.com/event/grow-west-pop-up-thurs-6-26/
LOCATION:Chesacanna\, 10534 York Rd.\, Cockeysville\, MD\, 21030
END:VEVENT
BEGIN:VEVENT
DTSTART;TZID=America/New_York:20250627T120000
DTEND;TZID=America/New_York:20250627T140000
DTSTAMP:20260424T162805
CREATED:20250530T194322Z
LAST-MODIFIED:20250624T141805Z
UID:15045-1751025600-1751032800@www.chesacanna.com
SUMMARY:WANA POP-UP FRI. 6/27!
DESCRIPTION:Join us and our friends at Wana on Friday\, June 27th from 12pm-2pm for a vendor pop-up! Chat with a Wana rep all about their chews\, plus we’ll have specials ALL DAY on their chews!
URL:https://www.chesacanna.com/event/wana-pop-up-wed-6-25/
LOCATION:Chesacanna\, 10534 York Rd.\, Cockeysville\, MD\, 21030
END:VEVENT
END:VCALENDAR