BEGIN:VCALENDAR
VERSION:2.0
PRODID:-//Chesacanna - Enhanced Wellness - ECPv6.15.20//NONSGML v1.0//EN
CALSCALE:GREGORIAN
METHOD:PUBLISH
X-WR-CALNAME:Chesacanna - Enhanced Wellness
X-ORIGINAL-URL:https://www.chesacanna.com
X-WR-CALDESC:Events for Chesacanna - Enhanced Wellness
REFRESH-INTERVAL;VALUE=DURATION:PT1H
X-Robots-Tag:noindex
X-PUBLISHED-TTL:PT1H
BEGIN:VTIMEZONE
TZID:America/New_York
BEGIN:DAYLIGHT
TZOFFSETFROM:-0500
TZOFFSETTO:-0400
TZNAME:EDT
DTSTART:20190310T070000
END:DAYLIGHT
BEGIN:STANDARD
TZOFFSETFROM:-0400
TZOFFSETTO:-0500
TZNAME:EST
DTSTART:20191103T060000
END:STANDARD
BEGIN:DAYLIGHT
TZOFFSETFROM:-0500
TZOFFSETTO:-0400
TZNAME:EDT
DTSTART:20200308T070000
END:DAYLIGHT
BEGIN:STANDARD
TZOFFSETFROM:-0400
TZOFFSETTO:-0500
TZNAME:EST
DTSTART:20201101T060000
END:STANDARD
BEGIN:DAYLIGHT
TZOFFSETFROM:-0500
TZOFFSETTO:-0400
TZNAME:EDT
DTSTART:20210314T070000
END:DAYLIGHT
BEGIN:STANDARD
TZOFFSETFROM:-0400
TZOFFSETTO:-0500
TZNAME:EST
DTSTART:20211107T060000
END:STANDARD
END:VTIMEZONE
BEGIN:VEVENT
DTSTART;TZID=America/New_York:20200201T090000
DTEND;TZID=America/New_York:20200201T100000
DTSTAMP:20260421T050348
CREATED:20191228T011415Z
LAST-MODIFIED:20191228T011415Z
UID:3183-1580547600-1580551200@www.chesacanna.com
SUMMARY:CannaFit Class
DESCRIPTION:Every Saturday January 4th\, from 9-10am\, until March 28th.\n\nCannaFit 2020\n\nFitnology Health and Human Performance Center\n\nJoin us for CannaFit\, a workout series designed and led by Coach Marc Spataro of Chesacanna and Fitnology. The new year can be the perfect starting point in your fitness journey or a great time to reset your health goals. The goal of CannaFit is to provide you with valuable tools that you can use to continually improve your health and to bring together a community of like-minded folks! CannaFit classes are held every Saturday starting January 4th\, from 9-10am\, until March 28th. The classes are free if you are an MMCC patient and $10 if you are a non-patient. No need to sign up ahead of time\, just be there ready to sweat at 9am!
URL:https://www.chesacanna.com/event/cannafit-class-3/
LOCATION:Fitnology\, 10534 York Road Suite 104\, Cockeysville\, MD\, 21030\, United States
ORGANIZER;CN="Chesacanna":MAILTO:info@chesacanna.com
END:VEVENT
BEGIN:VEVENT
DTSTART;TZID=America/New_York:20200208T090000
DTEND;TZID=America/New_York:20200208T100000
DTSTAMP:20260421T050348
CREATED:20191228T011522Z
LAST-MODIFIED:20191228T011522Z
UID:3185-1581152400-1581156000@www.chesacanna.com
SUMMARY:CannaFit Class
DESCRIPTION:Every Saturday January 4th\, from 9-10am\, until March 28th.\n\nCannaFit 2020\n\nFitnology Health and Human Performance Center\n\nJoin us for CannaFit\, a workout series designed and led by Coach Marc Spataro of Chesacanna and Fitnology. The new year can be the perfect starting point in your fitness journey or a great time to reset your health goals. The goal of CannaFit is to provide you with valuable tools that you can use to continually improve your health and to bring together a community of like-minded folks! CannaFit classes are held every Saturday starting January 4th\, from 9-10am\, until March 28th. The classes are free if you are an MMCC patient and $10 if you are a non-patient. No need to sign up ahead of time\, just be there ready to sweat at 9am!
URL:https://www.chesacanna.com/event/cannafit-class-4/
LOCATION:Fitnology\, 10534 York Road Suite 104\, Cockeysville\, MD\, 21030\, United States
ORGANIZER;CN="Chesacanna":MAILTO:info@chesacanna.com
END:VEVENT
BEGIN:VEVENT
DTSTART;TZID=America/New_York:20200208T090000
DTEND;TZID=America/New_York:20200213T190000
DTSTAMP:20260421T050348
CREATED:20200124T183808Z
LAST-MODIFIED:20200124T183859Z
UID:3367-1581152400-1581620400@www.chesacanna.com
SUMMARY:Valentine's Day Love Buds Giveaway
DESCRIPTION:Chesacanna Presents\nThe Valentine’s Day Love Buds Giveaway\nFeb 8th – 13th\nHow to Enter:\nGet one raffle ticket for each event attended this week including Glowing Gals Workshop\, Twisted Truffles\, Grounding The Heart: Meditation.\nGet one raffle ticket with a purchase of the “Love Buds” cannabis special (limit one ticket per day)\nWinners will be notified on Thursday Feb 13th\, 2020\nThree prizes: 1 large basket\, one wine & chocolate\, 1 dozen roses
URL:https://www.chesacanna.com/event/valentines-day-love-buds-giveaway/
LOCATION:Chesacanna\, 10534 York Rd.\, Cockeysville\, MD\, 21030
ORGANIZER;CN="Chesacanna":MAILTO:info@chesacanna.com
END:VEVENT
BEGIN:VEVENT
DTSTART;TZID=America/New_York:20200208T160000
DTEND;TZID=America/New_York:20200208T180000
DTSTAMP:20260421T050348
CREATED:20200102T180559Z
LAST-MODIFIED:20200102T184341Z
UID:3219-1581177600-1581184800@www.chesacanna.com
SUMMARY:Glowing Gals Workshop
DESCRIPTION:The Glowing Gals Event will be a 2-hour women’s empowerment mentoring session promoting self-healing taught by our friends  at OuttaMyCocoon. This small and intimate class will focus on Myofascial Release of the face\, creative movement and meditation following a brief discussion on the basics of EFT (Emotional Freedom Technique.)  \nThis two-part class will feature a hands-on facial demonstration of Myofascial Release\, so a product free face is encouraged. The second half of the class will flow with creative movement and close with a short meditation.  \nIncluded with your ticket\, you receive a signature OuttaMyCocoon BALANCE bracelet ($20 value) & take home recipes to keep you glowing!
URL:https://www.chesacanna.com/event/glowing-gals-workshop/
LOCATION:Chesacanna\, 10534 York Rd.\, Cockeysville\, MD\, 21030
ORGANIZER;CN="Chesacanna":MAILTO:info@chesacanna.com
END:VEVENT
BEGIN:VEVENT
DTSTART;TZID=America/New_York:20200211T170000
DTEND;TZID=America/New_York:20200211T190000
DTSTAMP:20260421T050348
CREATED:20200121T214915Z
LAST-MODIFIED:20200127T174805Z
UID:3315-1581440400-1581447600@www.chesacanna.com
SUMMARY:Twisted Truffle Class
DESCRIPTION:Do You Love Chocolate? Chesacanna Is Feeling The Love For Valentines!\n  \nCome join us on February 11th\, 5:00 – 7:00pm for a CBD infused truffle making demonstration with Lisa Gregory. You may know Lisa and her delicious pastries from the Hereford Farmer’s Market and the Contented Rooster Farm in Parkton\, Md. \n  \nLisa will demonstrate the art of truffle making from start to finish.  During this 2hr hands on event\, you will have the opportunity to make this delicious treat for you\, and your favorite valentine. Our knowledgeable staff will demonstrate for you how to infuse hemp derived CBD into your truffles.  You will have an opportunity to roll your own truffles in a variety of coatings and infuse them with our hemp derived CBD oil. Learn how you could infuse your truffles with cannabis at home with our take home tips. Ticket includes\, truffles\, take home recipe\, hands-on practice to make your own batch of truffles at home\, and one entry into the Valentines Day Basket giveaway. \nStay Connected: \nFacebook: https://www.facebook.com/Chesacanna/\nChesacanna Dispensary Instagram: @chesacanna_deli\nChesacanna Wellness Shop Instagram: @chesacanna_wellness\n \nInstagram: @contentedrooster\nFacebook: www.facebook.com/thecontentedrooster
URL:https://www.chesacanna.com/event/twisted-truffle-class/
LOCATION:Chesacanna\, 10534 York Rd.\, Cockeysville\, MD\, 21030
ORGANIZER;CN="Chesacanna":MAILTO:info@chesacanna.com
END:VEVENT
BEGIN:VEVENT
DTSTART;TZID=America/New_York:20200213T170000
DTEND;TZID=America/New_York:20200213T190000
DTSTAMP:20260421T050348
CREATED:20200122T154312Z
LAST-MODIFIED:20200209T213356Z
UID:3301-1581613200-1581620400@www.chesacanna.com
SUMMARY:Grounding The Heart Crystal Meditation
DESCRIPTION:Love is in the air at Chesacanna! \nCheryl Hicks\, owner of of Tranquili-Chi\, an integrative healing wellness coach and state of MD LMD will be in house on February 13th from 5-7pm. Come out and join her as she guides you through a grounding heart meditation using rose quartz and hematite. Cheryl will educate you on the healing properties using grownded in group power and self introspection.  \nThe focus of this meditation will be sending peace and love out into the world with direct focus on strength and emotional self-health to ourselves and beyond. You will leave this event with a 2 inch Rose Heart Quartz crystal and a Hematite stone. Upon admission to this event\, in celebration of Valentines Day you will be entered into Chesacanna’s Valentines Day Basket raffle. \nTicket Link Below: \nhttps://www.eventbrite.com/e/90812920891
URL:https://www.chesacanna.com/event/grounding-into-heart-meditation/
LOCATION:Chesacanna\, 10534 York Rd.\, Cockeysville\, MD\, 21030
ORGANIZER;CN="Chesacanna":MAILTO:info@chesacanna.com
END:VEVENT
BEGIN:VEVENT
DTSTART;TZID=America/New_York:20200215T090000
DTEND;TZID=America/New_York:20200215T100000
DTSTAMP:20260421T050348
CREATED:20191228T011615Z
LAST-MODIFIED:20191228T011615Z
UID:3187-1581757200-1581760800@www.chesacanna.com
SUMMARY:CannaFit Class
DESCRIPTION:Every Saturday January 4th\, from 9-10am\, until March 28th.\n\nCannaFit 2020\n\nFitnology Health and Human Performance Center\n\nJoin us for CannaFit\, a workout series designed and led by Coach Marc Spataro of Chesacanna and Fitnology. The new year can be the perfect starting point in your fitness journey or a great time to reset your health goals. The goal of CannaFit is to provide you with valuable tools that you can use to continually improve your health and to bring together a community of like-minded folks! CannaFit classes are held every Saturday starting January 4th\, from 9-10am\, until March 28th. The classes are free if you are an MMCC patient and $10 if you are a non-patient. No need to sign up ahead of time\, just be there ready to sweat at 9am!
URL:https://www.chesacanna.com/event/cannafit-class-5/
LOCATION:Fitnology\, 10534 York Road Suite 104\, Cockeysville\, MD\, 21030\, United States
ORGANIZER;CN="Chesacanna":MAILTO:info@chesacanna.com
END:VEVENT
BEGIN:VEVENT
DTSTART;TZID=America/New_York:20200219T163000
DTEND;TZID=America/New_York:20200219T183000
DTSTAMP:20260421T050348
CREATED:20200122T192055Z
LAST-MODIFIED:20200123T201311Z
UID:3323-1582129800-1582137000@www.chesacanna.com
SUMMARY:Flower 101 w/ Emily & Devin
DESCRIPTION:  \nNeed the 101 on Cannabis Flower?\nIn-house educators\, Devin Holihan and Emily Bennett\, will show us the basics of cannabis flower\, consumption methods\, with education on flower and accessories care. This event takes place at Chesacanna with an in depth Q&A session with our knowledgeable staff.\n  \nALL PARTICIPANTS RECIEVE: \nExclusive Deals on Flower and Accessories  \n$5 Credit Towards Any Purchase  \nStep-By-Step Instructions To Go Home With & Lots Of Products To Choose From!  \n  \nMMCC CARD NOT REQUIRED FOR THIS EVENT
URL:https://www.chesacanna.com/event/flower-101-w-emily-devin/
LOCATION:Chesacanna\, 10534 York Rd.\, Cockeysville\, MD\, 21030
ORGANIZER;CN="Chesacanna":MAILTO:info@chesacanna.com
END:VEVENT
BEGIN:VEVENT
DTSTART;TZID=America/New_York:20200221T120000
DTEND;TZID=America/New_York:20200221T150000
DTSTAMP:20260421T050348
CREATED:20200123T201818Z
LAST-MODIFIED:20200127T175340Z
UID:3360-1582286400-1582297200@www.chesacanna.com
SUMMARY:Dogwalkers Pop Up
DESCRIPTION:GTI Dogwalkers Pop Up  \nFriday\, February 21st 12-3pm \nNational Walk Your Dog Day is February 22nd and Chesacanna want to help you prepare for your day with your 4 legged furry friends! \nWe will have Dogwalkers brand ambassadors in the house with limited edition swag to hand out to patients that come and stop by! This swag is pop-up exclusive to this pop up! \nLove the swag? Follow Dogwalkers and Chesacanna on Instagram for opportunities to win even more premium swag!
URL:https://www.chesacanna.com/event/dogwalkers-pop-up/
LOCATION:Chesacanna\, 10534 York Rd.\, Cockeysville\, MD\, 21030
ORGANIZER;CN="Chesacanna":MAILTO:info@chesacanna.com
END:VEVENT
BEGIN:VEVENT
DTSTART;TZID=America/New_York:20200222T090000
DTEND;TZID=America/New_York:20200222T100000
DTSTAMP:20260421T050348
CREATED:20191228T011708Z
LAST-MODIFIED:20191228T011708Z
UID:3189-1582362000-1582365600@www.chesacanna.com
SUMMARY:CannaFit Class
DESCRIPTION:Every Saturday January 4th\, from 9-10am\, until March 28th.\n\nCannaFit 2020\n\nFitnology Health and Human Performance Center\n\nJoin us for CannaFit\, a workout series designed and led by Coach Marc Spataro of Chesacanna and Fitnology. The new year can be the perfect starting point in your fitness journey or a great time to reset your health goals. The goal of CannaFit is to provide you with valuable tools that you can use to continually improve your health and to bring together a community of like-minded folks! CannaFit classes are held every Saturday starting January 4th\, from 9-10am\, until March 28th. The classes are free if you are an MMCC patient and $10 if you are a non-patient. No need to sign up ahead of time\, just be there ready to sweat at 9am!
URL:https://www.chesacanna.com/event/cannafit-class-6/
LOCATION:Fitnology\, 10534 York Road Suite 104\, Cockeysville\, MD\, 21030\, United States
ORGANIZER;CN="Chesacanna":MAILTO:info@chesacanna.com
END:VEVENT
BEGIN:VEVENT
DTSTART;TZID=America/New_York:20200229T090000
DTEND;TZID=America/New_York:20200229T100000
DTSTAMP:20260421T050348
CREATED:20191228T011820Z
LAST-MODIFIED:20191228T011820Z
UID:3192-1582966800-1582970400@www.chesacanna.com
SUMMARY:CannaFit Class
DESCRIPTION:Every Saturday January 4th\, from 9-10am\, until March 28th.\n\nCannaFit 2020\n\nFitnology Health and Human Performance Center\n\nJoin us for CannaFit\, a workout series designed and led by Coach Marc Spataro of Chesacanna and Fitnology. The new year can be the perfect starting point in your fitness journey or a great time to reset your health goals. The goal of CannaFit is to provide you with valuable tools that you can use to continually improve your health and to bring together a community of like-minded folks! CannaFit classes are held every Saturday starting January 4th\, from 9-10am\, until March 28th. The classes are free if you are an MMCC patient and $10 if you are a non-patient. No need to sign up ahead of time\, just be there ready to sweat at 9am!
URL:https://www.chesacanna.com/event/cannafit-class-7/
LOCATION:Fitnology\, 10534 York Road Suite 104\, Cockeysville\, MD\, 21030\, United States
ORGANIZER;CN="Chesacanna":MAILTO:info@chesacanna.com
END:VEVENT
BEGIN:VEVENT
DTSTART;TZID=America/New_York:20200229T160000
DTEND;TZID=America/New_York:20200229T180000
DTSTAMP:20260421T050348
CREATED:20191206T203615Z
LAST-MODIFIED:20200123T201617Z
UID:3122-1582992000-1582999200@www.chesacanna.com
SUMMARY:Cooking Class with The Sassy Dietitian
DESCRIPTION:The Sassy Dietitian and author of “The Complete Clean Eating Cookbook” will be at Chesacanna to talk about her 200 fresh recipes and 3 easy meal plans for a healthy diet. She will highlight select recipes from her book in a two part education & cooking demonstration. \nLaura Ligos\, MBA\, RDN\, CSSD\, is an Albany\, NY-based Sports Dietitian and online real food based blogger\, educator and nutrition expert. She received her Bachelor of Science degree in Nutrition Sciences from Cornell University. She went on to complete her Dietetic Internship and Master of Business Administration at Dominican University. \nAs a lifelong athlete she went on to pursue many ventures as a dietitian but knew her passion was in sports nutrition as well as teaching people how to cook and build a real food lifestyle. She educates people in her hometown as well as through her blog at thesassydietitian.com and on her Instagram account (@thesassydietitian). Laura is also a CrossFit Level 2 trainer at her local CrossFit gym where she loves coaching her athletes and helping them live an active life through movement and nutrition. \nShe currently resides in Albany\, NY with her husband and her Wheaten Terrier pup\, Bode who you can see running through sprinklers daily on her Instagram account. \nHer book will be for sale at the event or it can be ordered on amazon at https://amzn.to/36QxVBX \nSaturday’s menu & demonstration will include:\nAlmond Butter Energy Bites \nEgg Roll in a Bowl \nStrawberry Goat Cheese Salad
URL:https://www.chesacanna.com/event/cooking-class-with-the-sassy-dietitian/
LOCATION:Chesacanna\, 10534 York Rd.\, Cockeysville\, MD\, 21030
ORGANIZER;CN="Chesacanna":MAILTO:info@chesacanna.com
END:VEVENT
END:VCALENDAR