BEGIN:VCALENDAR
VERSION:2.0
PRODID:-//Chesacanna - Enhanced Wellness - ECPv6.15.20//NONSGML v1.0//EN
CALSCALE:GREGORIAN
METHOD:PUBLISH
X-ORIGINAL-URL:https://www.chesacanna.com
X-WR-CALDESC:Events for Chesacanna - Enhanced Wellness
REFRESH-INTERVAL;VALUE=DURATION:PT1H
X-Robots-Tag:noindex
X-PUBLISHED-TTL:PT1H
BEGIN:VTIMEZONE
TZID:America/New_York
BEGIN:DAYLIGHT
TZOFFSETFROM:-0500
TZOFFSETTO:-0400
TZNAME:EDT
DTSTART:20250309T070000
END:DAYLIGHT
BEGIN:STANDARD
TZOFFSETFROM:-0400
TZOFFSETTO:-0500
TZNAME:EST
DTSTART:20251102T060000
END:STANDARD
BEGIN:DAYLIGHT
TZOFFSETFROM:-0500
TZOFFSETTO:-0400
TZNAME:EDT
DTSTART:20260308T070000
END:DAYLIGHT
BEGIN:STANDARD
TZOFFSETFROM:-0400
TZOFFSETTO:-0500
TZNAME:EST
DTSTART:20261101T060000
END:STANDARD
BEGIN:DAYLIGHT
TZOFFSETFROM:-0500
TZOFFSETTO:-0400
TZNAME:EDT
DTSTART:20270314T070000
END:DAYLIGHT
BEGIN:STANDARD
TZOFFSETFROM:-0400
TZOFFSETTO:-0500
TZNAME:EST
DTSTART:20271107T060000
END:STANDARD
END:VTIMEZONE
BEGIN:VEVENT
DTSTART;TZID=America/New_York:20260423T130000
DTEND;TZID=America/New_York:20260423T150000
DTSTAMP:20260423T154558
CREATED:20260403T142552Z
LAST-MODIFIED:20260403T142552Z
UID:16490-1776949200-1776956400@www.chesacanna.com
SUMMARY:KIND TREE POP-UP THURS. 4/23!
DESCRIPTION:Stop by Chesacanna on Thursday\, April 23rd from 1-3pm for a pop-up with our friends from Kind Tree & Vahalla! They’ll be here with swag\, educating customers\, and we’ll be featuring their brands ALL DAY!
URL:https://www.chesacanna.com/event/kind-tree-pop-up-thurs-4-23/
LOCATION:Chesacanna\, 10534 York Rd.\, Cockeysville\, MD\, 21030
END:VEVENT
BEGIN:VEVENT
DTSTART;TZID=America/New_York:20260424T120000
DTEND;TZID=America/New_York:20260424T140000
DTSTAMP:20260423T154558
CREATED:20260403T142700Z
LAST-MODIFIED:20260403T142700Z
UID:16491-1777032000-1777039200@www.chesacanna.com
SUMMARY:CULTA POP-UP FRI. 4/24!
DESCRIPTION:Come to Chesacanna on Friday\, April 24th from 12-2pm for a pop-up with our friends from CULTA & Grass! A rep will be here with swag\, educating patients on their brands and products\, and we’ll have discounts on their products ALL DAY!
URL:https://www.chesacanna.com/event/culta-pop-up-fri-4-24/
LOCATION:MD
END:VEVENT
BEGIN:VEVENT
DTSTART;TZID=America/New_York:20260425T100000
DTEND;TZID=America/New_York:20260425T120000
DTSTAMP:20260423T154558
CREATED:20260423T155716Z
LAST-MODIFIED:20260423T155716Z
UID:16543-1777111200-1777118400@www.chesacanna.com
SUMMARY:CURIO POP-UP SATURDAY 4/25!
DESCRIPTION:Join us on Saturday\, April 25th from 10am-12pm for a vendor pop-up with Curio\, Dixie\, Happy Eddie\, Edie Parker\, Fuzed\, & Smokiez! A rep will be here educating everyone about their strains and products\, plus free swag and discounts on Curio products ALL DAY!
URL:https://www.chesacanna.com/event/curio-pop-up-saturday-4-25/
LOCATION:Chesacanna\, 10534 York Rd.\, Cockeysville\, MD\, 21030
END:VEVENT
BEGIN:VEVENT
DTSTART;TZID=America/New_York:20260428T120000
DTEND;TZID=America/New_York:20260428T140000
DTSTAMP:20260423T154558
CREATED:20260423T160022Z
LAST-MODIFIED:20260423T160022Z
UID:16544-1777377600-1777384800@www.chesacanna.com
SUMMARY:ALCHEMIST/EDEN/TEMPLE POP-UP TUES. 4/28!
DESCRIPTION:Stop by and say High Tuesday\, April 28th from 12pm-2pm for a pop-up with our friends from Alchemist\, Eden\, Temple\, and Equity! A rep will be here with swag\, educating everyone on their brands and products\, and we’ll have discounts on their products ALL DAY!
URL:https://www.chesacanna.com/event/alchemist-eden-temple-pop-up-tues-4-28/
LOCATION:MD
END:VEVENT
BEGIN:VEVENT
DTSTART;TZID=America/New_York:20260428T170000
DTEND;TZID=America/New_York:20260428T190000
DTSTAMP:20260423T154558
CREATED:20260419T162025Z
LAST-MODIFIED:20260419T162025Z
UID:16530-1777395600-1777402800@www.chesacanna.com
SUMMARY:MEET THE GROWER W/ STORY CANNABIS TUES. 4/28!
DESCRIPTION:Learn all about Story’s brands & products (Fade Co\, Just Flower\, MORE) on Tuesday\, April 28th from 5-7pm. Plus a Q&A session with the Cultivation Manager at Story Cannabis! \nTickets: $10\, which includes $10 dispensary credit after the class & is $1 Fade Co 8th for All Attendees! \nLimited tickets available. \nGET TICKETS HERE!
URL:https://www.chesacanna.com/event/meet-the-grower-w-story-cannabis-tues-4-28/
LOCATION:Chesacanna\, 10534 York Rd.\, Cockeysville\, MD\, 21030
ATTACH;FMTTYPE=image/png:https://www.chesacanna.com/wp-content/uploads/2026/04/4.28.26-meetthegrower_story-ticketleap.png
END:VEVENT
BEGIN:VEVENT
DTSTART;TZID=America/New_York:20260430T103000
DTEND;TZID=America/New_York:20260430T120000
DTSTAMP:20260423T154558
CREATED:20260423T160618Z
LAST-MODIFIED:20260423T160838Z
UID:16546-1777545000-1777550400@www.chesacanna.com
SUMMARY:NATURE'S/BETTY'S EDDIES POP-UP THURS. 4/30!
DESCRIPTION:Come to Chesacanna on Thursday\, April 30th for a 10:30am-12pm pop-up with our friends from Betty’s Eddies\, Nature’s Heritage\, Bubby’s Baked\, In House & Vibations! A rep will be here with swag\, educating patients on their brands and products\, and we’ll have discounts on their products ALL DAY!
URL:https://www.chesacanna.com/event/natures-bettys-eddies-pop-up-thurs-4-30/
LOCATION:Chesacanna\, 10534 York Rd.\, Cockeysville\, MD\, 21030
END:VEVENT
BEGIN:VEVENT
DTSTART;TZID=America/New_York:20260430T120000
DTEND;TZID=America/New_York:20260430T140000
DTSTAMP:20260423T154558
CREATED:20260423T161010Z
LAST-MODIFIED:20260423T161438Z
UID:16547-1777550400-1777557600@www.chesacanna.com
SUMMARY:AIRO POP-UP THURS. 4/30!
DESCRIPTION:Stop in on Thursday\, April 30th from 12pm-2pm for a pop-up with our friends from Airo! An Airo rep will be at the dispensary to talk about their products and strains. PLUS we will have discounts on Airo ALL DAY!
URL:https://www.chesacanna.com/event/airo-pop-up-thurs-4-30/
LOCATION:Chesacanna\, 10534 York Rd.\, Cockeysville\, MD\, 21030
END:VEVENT
BEGIN:VEVENT
DTSTART;VALUE=DATE:20260501
DTEND;VALUE=DATE:20260502
DTSTAMP:20260423T154558
CREATED:20260423T161257Z
LAST-MODIFIED:20260423T161257Z
UID:16548-1777593600-1777679999@www.chesacanna.com
SUMMARY:SUNMED GHOST POP-UP ALL DAY 5/1!
DESCRIPTION:Stop by Friday\, May 1st for a vendor pop-up ALL DAY with our friends from SunMed Growers & Sunnies! We will give out some SunMed swag & we’ll have specials on their products ALL DAY!
URL:https://www.chesacanna.com/event/sunmed-ghost-pop-up-all-day-5-1/
LOCATION:Chesacanna\, 10534 York Rd.\, Cockeysville\, MD\, 21030
END:VEVENT
END:VCALENDAR