BEGIN:VCALENDAR
VERSION:2.0
PRODID:-//Chesacanna - Enhanced Wellness - ECPv6.15.20//NONSGML v1.0//EN
CALSCALE:GREGORIAN
METHOD:PUBLISH
X-WR-CALNAME:Chesacanna - Enhanced Wellness
X-ORIGINAL-URL:https://www.chesacanna.com
X-WR-CALDESC:Events for Chesacanna - Enhanced Wellness
REFRESH-INTERVAL;VALUE=DURATION:PT1H
X-Robots-Tag:noindex
X-PUBLISHED-TTL:PT1H
BEGIN:VTIMEZONE
TZID:America/New_York
BEGIN:DAYLIGHT
TZOFFSETFROM:-0500
TZOFFSETTO:-0400
TZNAME:EDT
DTSTART:20250309T070000
END:DAYLIGHT
BEGIN:STANDARD
TZOFFSETFROM:-0400
TZOFFSETTO:-0500
TZNAME:EST
DTSTART:20251102T060000
END:STANDARD
BEGIN:DAYLIGHT
TZOFFSETFROM:-0500
TZOFFSETTO:-0400
TZNAME:EDT
DTSTART:20260308T070000
END:DAYLIGHT
BEGIN:STANDARD
TZOFFSETFROM:-0400
TZOFFSETTO:-0500
TZNAME:EST
DTSTART:20261101T060000
END:STANDARD
BEGIN:DAYLIGHT
TZOFFSETFROM:-0500
TZOFFSETTO:-0400
TZNAME:EDT
DTSTART:20270314T070000
END:DAYLIGHT
BEGIN:STANDARD
TZOFFSETFROM:-0400
TZOFFSETTO:-0500
TZNAME:EST
DTSTART:20271107T060000
END:STANDARD
END:VTIMEZONE
BEGIN:VEVENT
DTSTART;TZID=America/New_York:20260428T170000
DTEND;TZID=America/New_York:20260428T190000
DTSTAMP:20260420T185133
CREATED:20260419T162025Z
LAST-MODIFIED:20260419T162025Z
UID:16530-1777395600-1777402800@www.chesacanna.com
SUMMARY:MEET THE GROWER W/ STORY CANNABIS TUES. 4/28!
DESCRIPTION:Learn all about Story’s brands & products (Fade Co\, Just Flower\, MORE) on Tuesday\, April 28th from 5-7pm. Plus a Q&A session with the Cultivation Manager at Story Cannabis! \nTickets: $10\, which includes $10 dispensary credit after the class & is $1 Fade Co 8th for All Attendees! \nLimited tickets available. \nGET TICKETS HERE!
URL:https://www.chesacanna.com/event/meet-the-grower-w-story-cannabis-tues-4-28/
LOCATION:Chesacanna\, 10534 York Rd.\, Cockeysville\, MD\, 21030
ATTACH;FMTTYPE=image/png:https://www.chesacanna.com/wp-content/uploads/2026/04/4.28.26-meetthegrower_story-ticketleap.png
END:VEVENT
END:VCALENDAR