BEGIN:VCALENDAR
VERSION:2.0
PRODID:-//Chesacanna - Enhanced Wellness - ECPv6.15.20//NONSGML v1.0//EN
CALSCALE:GREGORIAN
METHOD:PUBLISH
X-ORIGINAL-URL:https://www.chesacanna.com
X-WR-CALDESC:Events for Chesacanna - Enhanced Wellness
REFRESH-INTERVAL;VALUE=DURATION:PT1H
X-Robots-Tag:noindex
X-PUBLISHED-TTL:PT1H
BEGIN:VTIMEZONE
TZID:America/New_York
BEGIN:DAYLIGHT
TZOFFSETFROM:-0500
TZOFFSETTO:-0400
TZNAME:EDT
DTSTART:20240310T070000
END:DAYLIGHT
BEGIN:STANDARD
TZOFFSETFROM:-0400
TZOFFSETTO:-0500
TZNAME:EST
DTSTART:20241103T060000
END:STANDARD
BEGIN:DAYLIGHT
TZOFFSETFROM:-0500
TZOFFSETTO:-0400
TZNAME:EDT
DTSTART:20250309T070000
END:DAYLIGHT
BEGIN:STANDARD
TZOFFSETFROM:-0400
TZOFFSETTO:-0500
TZNAME:EST
DTSTART:20251102T060000
END:STANDARD
BEGIN:DAYLIGHT
TZOFFSETFROM:-0500
TZOFFSETTO:-0400
TZNAME:EDT
DTSTART:20260308T070000
END:DAYLIGHT
BEGIN:STANDARD
TZOFFSETFROM:-0400
TZOFFSETTO:-0500
TZNAME:EST
DTSTART:20261101T060000
END:STANDARD
END:VTIMEZONE
BEGIN:VEVENT
DTSTART;TZID=America/New_York:20250808T100000
DTEND;TZID=America/New_York:20250808T120000
DTSTAMP:20260421T210703
CREATED:20250722T140002Z
LAST-MODIFIED:20250722T140002Z
UID:15378-1754647200-1754654400@www.chesacanna.com
SUMMARY:WYLD POP-UP FRI. 8/8!
DESCRIPTION:Join us and our friends\, WYLD\, on Friday\, August 8th from 10am-12pm for a vendor pop-up! Chat with a WYLD rep all about their chews\, plus we’ll have specials ALL DAY on their gummies!
URL:https://www.chesacanna.com/event/wyld-pop-up-fri-8-8/
LOCATION:Chesacanna\, 10534 York Rd.\, Cockeysville\, MD\, 21030
END:VEVENT
BEGIN:VEVENT
DTSTART;TZID=America/New_York:20250808T120000
DTEND;TZID=America/New_York:20250808T140000
DTSTAMP:20260421T210703
CREATED:20250731T161523Z
LAST-MODIFIED:20250731T161523Z
UID:15410-1754654400-1754661600@www.chesacanna.com
SUMMARY:GROW WEST POP-UP FRI. 8/8!
DESCRIPTION:Join us on Friday\, August 8th for a vendor pop-up with Grow West from 12pm-2pm! A rep will be here informing everyone on their products\, plus we’ll have specials on their products ALL DAY! Make sure to stop by & say High!
URL:https://www.chesacanna.com/event/grow-west-pop-up-fri-8-8/
LOCATION:Chesacanna\, 10534 York Rd.\, Cockeysville\, MD\, 21030
END:VEVENT
END:VCALENDAR