BEGIN:VCALENDAR
VERSION:2.0
PRODID:-//Chesacanna - Enhanced Wellness - ECPv6.15.20//NONSGML v1.0//EN
CALSCALE:GREGORIAN
METHOD:PUBLISH
X-ORIGINAL-URL:https://www.chesacanna.com
X-WR-CALDESC:Events for Chesacanna - Enhanced Wellness
REFRESH-INTERVAL;VALUE=DURATION:PT1H
X-Robots-Tag:noindex
X-PUBLISHED-TTL:PT1H
BEGIN:VTIMEZONE
TZID:America/New_York
BEGIN:DAYLIGHT
TZOFFSETFROM:-0500
TZOFFSETTO:-0400
TZNAME:EDT
DTSTART:20240310T070000
END:DAYLIGHT
BEGIN:STANDARD
TZOFFSETFROM:-0400
TZOFFSETTO:-0500
TZNAME:EST
DTSTART:20241103T060000
END:STANDARD
BEGIN:DAYLIGHT
TZOFFSETFROM:-0500
TZOFFSETTO:-0400
TZNAME:EDT
DTSTART:20250309T070000
END:DAYLIGHT
BEGIN:STANDARD
TZOFFSETFROM:-0400
TZOFFSETTO:-0500
TZNAME:EST
DTSTART:20251102T060000
END:STANDARD
BEGIN:DAYLIGHT
TZOFFSETFROM:-0500
TZOFFSETTO:-0400
TZNAME:EDT
DTSTART:20260308T070000
END:DAYLIGHT
BEGIN:STANDARD
TZOFFSETFROM:-0400
TZOFFSETTO:-0500
TZNAME:EST
DTSTART:20261101T060000
END:STANDARD
END:VTIMEZONE
BEGIN:VEVENT
DTSTART;TZID=America/New_York:20250730T140000
DTEND;TZID=America/New_York:20250730T160000
DTSTAMP:20260421T205835
CREATED:20250717T151552Z
LAST-MODIFIED:20250717T151552Z
UID:15345-1753884000-1753891200@www.chesacanna.com
SUMMARY:BL^CK MARKET POP-UP WED. 7/30!
DESCRIPTION:Join us and our new friends from BL^CK MARKET on Wednesday\, July 30th from 2pm-4pm! They’ll be here educating everyone on all their products\, handing out swag\, and we’ll have discounts on their products ALL DAY! Make sure to stop by & say High!
URL:https://www.chesacanna.com/event/blck-market-pop-up-wed-7-30/
LOCATION:Chesacanna\, 10534 YORK ROAD\, COCKEYSVILLE\, MD\, 21030\, United States
END:VEVENT
END:VCALENDAR