BEGIN:VCALENDAR
VERSION:2.0
PRODID:-//Chesacanna - Enhanced Wellness - ECPv6.15.20//NONSGML v1.0//EN
CALSCALE:GREGORIAN
METHOD:PUBLISH
X-WR-CALNAME:Chesacanna - Enhanced Wellness
X-ORIGINAL-URL:https://www.chesacanna.com
X-WR-CALDESC:Events for Chesacanna - Enhanced Wellness
REFRESH-INTERVAL;VALUE=DURATION:PT1H
X-Robots-Tag:noindex
X-PUBLISHED-TTL:PT1H
BEGIN:VTIMEZONE
TZID:America/New_York
BEGIN:DAYLIGHT
TZOFFSETFROM:-0500
TZOFFSETTO:-0400
TZNAME:EDT
DTSTART:20240310T070000
END:DAYLIGHT
BEGIN:STANDARD
TZOFFSETFROM:-0400
TZOFFSETTO:-0500
TZNAME:EST
DTSTART:20241103T060000
END:STANDARD
BEGIN:DAYLIGHT
TZOFFSETFROM:-0500
TZOFFSETTO:-0400
TZNAME:EDT
DTSTART:20250309T070000
END:DAYLIGHT
BEGIN:STANDARD
TZOFFSETFROM:-0400
TZOFFSETTO:-0500
TZNAME:EST
DTSTART:20251102T060000
END:STANDARD
BEGIN:DAYLIGHT
TZOFFSETFROM:-0500
TZOFFSETTO:-0400
TZNAME:EDT
DTSTART:20260308T070000
END:DAYLIGHT
BEGIN:STANDARD
TZOFFSETFROM:-0400
TZOFFSETTO:-0500
TZNAME:EST
DTSTART:20261101T060000
END:STANDARD
END:VTIMEZONE
BEGIN:VEVENT
DTSTART;TZID=America/New_York:20250729T170000
DTEND;TZID=America/New_York:20250729T190000
DTSTAMP:20260421T205415
CREATED:20250714T165600Z
LAST-MODIFIED:20250714T165600Z
UID:15327-1753808400-1753815600@www.chesacanna.com
SUMMARY:GROWING 101 W/ CULTA TUES. 7/29!
DESCRIPTION:Join us on Tuesday July 29th\, from 5-7pm\, for a Growing 101 Class with our friends at CULTA! \nThe Head Outdoor Cultivator at CULTA will be at Chesacanna\, educating everyone on the basics of growing your own cannabis! \nTickets: $10\, which includes $10 dispensary credit + $1 CULTA 8ths for all attendees! (1 per attendee). \nSpots are limited. \nGET YOUR TICKETS HERE!
URL:https://www.chesacanna.com/event/growing-101-w-culta-tues-7-29/
LOCATION:Chesacanna\, 10534 York Rd.\, Cockeysville\, MD\, 21030
ATTACH;FMTTYPE=image/png:https://www.chesacanna.com/wp-content/uploads/2025/07/culta-grow-class-1920-x-1080-px.png
END:VEVENT
END:VCALENDAR