BEGIN:VCALENDAR
VERSION:2.0
PRODID:-//Chesacanna - Enhanced Wellness - ECPv6.15.20//NONSGML v1.0//EN
CALSCALE:GREGORIAN
METHOD:PUBLISH
X-ORIGINAL-URL:https://www.chesacanna.com
X-WR-CALDESC:Events for Chesacanna - Enhanced Wellness
REFRESH-INTERVAL;VALUE=DURATION:PT1H
X-Robots-Tag:noindex
X-PUBLISHED-TTL:PT1H
BEGIN:VTIMEZONE
TZID:America/New_York
BEGIN:DAYLIGHT
TZOFFSETFROM:-0500
TZOFFSETTO:-0400
TZNAME:EDT
DTSTART:20240310T070000
END:DAYLIGHT
BEGIN:STANDARD
TZOFFSETFROM:-0400
TZOFFSETTO:-0500
TZNAME:EST
DTSTART:20241103T060000
END:STANDARD
BEGIN:DAYLIGHT
TZOFFSETFROM:-0500
TZOFFSETTO:-0400
TZNAME:EDT
DTSTART:20250309T070000
END:DAYLIGHT
BEGIN:STANDARD
TZOFFSETFROM:-0400
TZOFFSETTO:-0500
TZNAME:EST
DTSTART:20251102T060000
END:STANDARD
BEGIN:DAYLIGHT
TZOFFSETFROM:-0500
TZOFFSETTO:-0400
TZNAME:EDT
DTSTART:20260308T070000
END:DAYLIGHT
BEGIN:STANDARD
TZOFFSETFROM:-0400
TZOFFSETTO:-0500
TZNAME:EST
DTSTART:20261101T060000
END:STANDARD
END:VTIMEZONE
BEGIN:VEVENT
DTSTART;TZID=America/New_York:20250707T170000
DTEND;TZID=America/New_York:20250707T190000
DTSTAMP:20260423T061627
CREATED:20250624T165435Z
LAST-MODIFIED:20250624T165435Z
UID:15202-1751907600-1751914800@www.chesacanna.com
SUMMARY:THE WIDE WORLD OF CONCENTRATES W/ EVERMORE MON. 7/7!
DESCRIPTION:Join us on Monday July 7th\, from 5-7pm\, for the Wide World of Concentrates with our friends at Evermore! \nThe VP of Processing at Evermore will be at Chesacanna\, educating everyone on the basics of all concentrates. \nTickets: $10\, which includes $10 dispensary credit + $1 Live Resin Vape Cart for all attendees! (1 per attendee). \nSpots are limited. \nGET YOUR TICKETS HERE!
URL:https://www.chesacanna.com/event/the-wide-world-of-concentrates-w-evermore-mon-7-7/
LOCATION:Chesacanna\, 10534 YORK ROAD\, COCKEYSVILLE\, MD\, 21030\, United States
ATTACH;FMTTYPE=image/png:https://www.chesacanna.com/wp-content/uploads/2025/06/evermore-concentrates-class-1920-x-1080-px.png
END:VEVENT
END:VCALENDAR