BEGIN:VCALENDAR
VERSION:2.0
PRODID:-//Chesacanna - Enhanced Wellness - ECPv6.15.20//NONSGML v1.0//EN
CALSCALE:GREGORIAN
METHOD:PUBLISH
X-WR-CALNAME:Chesacanna - Enhanced Wellness
X-ORIGINAL-URL:https://www.chesacanna.com
X-WR-CALDESC:Events for Chesacanna - Enhanced Wellness
REFRESH-INTERVAL;VALUE=DURATION:PT1H
X-Robots-Tag:noindex
X-PUBLISHED-TTL:PT1H
BEGIN:VTIMEZONE
TZID:America/New_York
BEGIN:DAYLIGHT
TZOFFSETFROM:-0500
TZOFFSETTO:-0400
TZNAME:EDT
DTSTART:20240310T070000
END:DAYLIGHT
BEGIN:STANDARD
TZOFFSETFROM:-0400
TZOFFSETTO:-0500
TZNAME:EST
DTSTART:20241103T060000
END:STANDARD
BEGIN:DAYLIGHT
TZOFFSETFROM:-0500
TZOFFSETTO:-0400
TZNAME:EDT
DTSTART:20250309T070000
END:DAYLIGHT
BEGIN:STANDARD
TZOFFSETFROM:-0400
TZOFFSETTO:-0500
TZNAME:EST
DTSTART:20251102T060000
END:STANDARD
BEGIN:DAYLIGHT
TZOFFSETFROM:-0500
TZOFFSETTO:-0400
TZNAME:EDT
DTSTART:20260308T070000
END:DAYLIGHT
BEGIN:STANDARD
TZOFFSETFROM:-0400
TZOFFSETTO:-0500
TZNAME:EST
DTSTART:20261101T060000
END:STANDARD
END:VTIMEZONE
BEGIN:VEVENT
DTSTART;TZID=America/New_York:20250627T120000
DTEND;TZID=America/New_York:20250627T140000
DTSTAMP:20260424T162206
CREATED:20250530T194322Z
LAST-MODIFIED:20250624T141805Z
UID:15045-1751025600-1751032800@www.chesacanna.com
SUMMARY:WANA POP-UP FRI. 6/27!
DESCRIPTION:Join us and our friends at Wana on Friday\, June 27th from 12pm-2pm for a vendor pop-up! Chat with a Wana rep all about their chews\, plus we’ll have specials ALL DAY on their chews!
URL:https://www.chesacanna.com/event/wana-pop-up-wed-6-25/
LOCATION:Chesacanna\, 10534 York Rd.\, Cockeysville\, MD\, 21030
END:VEVENT
END:VCALENDAR