BEGIN:VCALENDAR
VERSION:2.0
PRODID:-//Chesacanna - Enhanced Wellness - ECPv6.15.20//NONSGML v1.0//EN
CALSCALE:GREGORIAN
METHOD:PUBLISH
X-ORIGINAL-URL:https://www.chesacanna.com
X-WR-CALDESC:Events for Chesacanna - Enhanced Wellness
REFRESH-INTERVAL;VALUE=DURATION:PT1H
X-Robots-Tag:noindex
X-PUBLISHED-TTL:PT1H
BEGIN:VTIMEZONE
TZID:America/New_York
BEGIN:DAYLIGHT
TZOFFSETFROM:-0500
TZOFFSETTO:-0400
TZNAME:EDT
DTSTART:20240310T070000
END:DAYLIGHT
BEGIN:STANDARD
TZOFFSETFROM:-0400
TZOFFSETTO:-0500
TZNAME:EST
DTSTART:20241103T060000
END:STANDARD
BEGIN:DAYLIGHT
TZOFFSETFROM:-0500
TZOFFSETTO:-0400
TZNAME:EDT
DTSTART:20250309T070000
END:DAYLIGHT
BEGIN:STANDARD
TZOFFSETFROM:-0400
TZOFFSETTO:-0500
TZNAME:EST
DTSTART:20251102T060000
END:STANDARD
BEGIN:DAYLIGHT
TZOFFSETFROM:-0500
TZOFFSETTO:-0400
TZNAME:EDT
DTSTART:20260308T070000
END:DAYLIGHT
BEGIN:STANDARD
TZOFFSETFROM:-0400
TZOFFSETTO:-0500
TZNAME:EST
DTSTART:20261101T060000
END:STANDARD
END:VTIMEZONE
BEGIN:VEVENT
DTSTART;TZID=America/New_York:20250618T120000
DTEND;TZID=America/New_York:20250618T140000
DTSTAMP:20260425T091652
CREATED:20250529T164524Z
LAST-MODIFIED:20250529T164524Z
UID:15028-1750248000-1750255200@www.chesacanna.com
SUMMARY:AIRO POP-UP WED. 6/18!
DESCRIPTION:Stop in on Wednesday\, June 18th from 12pm-2pm for a pop-up with our friends from Airo! An Airo rep will be at the dispensary to talk about their products and strains. PLUS we will have discounts on Airo ALL DAY!
URL:https://www.chesacanna.com/event/airo-pop-up-wed-6-18/
LOCATION:Chesacanna\, 10534 YORK ROAD\, COCKEYSVILLE\, MD\, 21030\, United States
END:VEVENT
BEGIN:VEVENT
DTSTART;TZID=America/New_York:20250618T150000
DTEND;TZID=America/New_York:20250618T170000
DTSTAMP:20260425T091652
CREATED:20250530T194516Z
LAST-MODIFIED:20250605T130032Z
UID:15048-1750258800-1750266000@www.chesacanna.com
SUMMARY:EVERMORE POP-UP WED. 6/18!
DESCRIPTION:Make sure to stop by Chesacanna on Wednesday\, June 18th from 3pm-5pm for a pop-up with our friends from Evermore\, Tall\, & Happy J’s! They’ll be here with swag\, educating everyone on their products\, and we’ll be featuring their brand ALL DAY!
URL:https://www.chesacanna.com/event/evermore-pop-up-thurs-6-26/
LOCATION:Chesacanna\, 10534 York Rd.\, Cockeysville\, MD\, 21030
END:VEVENT
END:VCALENDAR