BEGIN:VCALENDAR
VERSION:2.0
PRODID:-//Chesacanna - Enhanced Wellness - ECPv6.15.20//NONSGML v1.0//EN
CALSCALE:GREGORIAN
METHOD:PUBLISH
X-ORIGINAL-URL:https://www.chesacanna.com
X-WR-CALDESC:Events for Chesacanna - Enhanced Wellness
REFRESH-INTERVAL;VALUE=DURATION:PT1H
X-Robots-Tag:noindex
X-PUBLISHED-TTL:PT1H
BEGIN:VTIMEZONE
TZID:America/New_York
BEGIN:DAYLIGHT
TZOFFSETFROM:-0500
TZOFFSETTO:-0400
TZNAME:EDT
DTSTART:20240310T070000
END:DAYLIGHT
BEGIN:STANDARD
TZOFFSETFROM:-0400
TZOFFSETTO:-0500
TZNAME:EST
DTSTART:20241103T060000
END:STANDARD
BEGIN:DAYLIGHT
TZOFFSETFROM:-0500
TZOFFSETTO:-0400
TZNAME:EDT
DTSTART:20250309T070000
END:DAYLIGHT
BEGIN:STANDARD
TZOFFSETFROM:-0400
TZOFFSETTO:-0500
TZNAME:EST
DTSTART:20251102T060000
END:STANDARD
BEGIN:DAYLIGHT
TZOFFSETFROM:-0500
TZOFFSETTO:-0400
TZNAME:EDT
DTSTART:20260308T070000
END:DAYLIGHT
BEGIN:STANDARD
TZOFFSETFROM:-0400
TZOFFSETTO:-0500
TZNAME:EST
DTSTART:20261101T060000
END:STANDARD
END:VTIMEZONE
BEGIN:VEVENT
DTSTART;TZID=America/New_York:20250401T170000
DTEND;TZID=America/New_York:20250401T190000
DTSTAMP:20260420T035442
CREATED:20250319T132650Z
LAST-MODIFIED:20250319T132650Z
UID:14628-1743526800-1743534000@www.chesacanna.com
SUMMARY:LEARN HOW TO GROW W/ EVERMORE TUES. 4/1!
DESCRIPTION:Join us on Tuesday April 1st\, from 5-7pm\, for a Grow Class with our friends at Evermore! \nThe Head Growers at Evermore will be at Chesacanna\, educating everyone on how to start growing your own c@nnabis at home! \nTickets: $10\, which includes $10 dispensary credit + $1 Clones for all attendees! (1 per attendee). \nSpots are limited. \nGET YOUR TICKETS HERE!
URL:https://www.chesacanna.com/event/learn-how-to-grow-w-evermore-tues-4-1/
LOCATION:Chesacanna\, 10534 YORK ROAD\, COCKEYSVILLE\, MD\, 21030\, United States
ATTACH;FMTTYPE=image/png:https://www.chesacanna.com/wp-content/uploads/2025/03/evermoregrowclass_email-1920-x-1080-px.png
END:VEVENT
END:VCALENDAR