BEGIN:VCALENDAR
VERSION:2.0
PRODID:-//Chesacanna - Enhanced Wellness - ECPv6.15.20//NONSGML v1.0//EN
CALSCALE:GREGORIAN
METHOD:PUBLISH
X-WR-CALNAME:Chesacanna - Enhanced Wellness
X-ORIGINAL-URL:https://www.chesacanna.com
X-WR-CALDESC:Events for Chesacanna - Enhanced Wellness
REFRESH-INTERVAL;VALUE=DURATION:PT1H
X-Robots-Tag:noindex
X-PUBLISHED-TTL:PT1H
BEGIN:VTIMEZONE
TZID:America/New_York
BEGIN:DAYLIGHT
TZOFFSETFROM:-0500
TZOFFSETTO:-0400
TZNAME:EDT
DTSTART:20230312T070000
END:DAYLIGHT
BEGIN:STANDARD
TZOFFSETFROM:-0400
TZOFFSETTO:-0500
TZNAME:EST
DTSTART:20231105T060000
END:STANDARD
BEGIN:DAYLIGHT
TZOFFSETFROM:-0500
TZOFFSETTO:-0400
TZNAME:EDT
DTSTART:20240310T070000
END:DAYLIGHT
BEGIN:STANDARD
TZOFFSETFROM:-0400
TZOFFSETTO:-0500
TZNAME:EST
DTSTART:20241103T060000
END:STANDARD
BEGIN:DAYLIGHT
TZOFFSETFROM:-0500
TZOFFSETTO:-0400
TZNAME:EDT
DTSTART:20250309T070000
END:DAYLIGHT
BEGIN:STANDARD
TZOFFSETFROM:-0400
TZOFFSETTO:-0500
TZNAME:EST
DTSTART:20251102T060000
END:STANDARD
END:VTIMEZONE
BEGIN:VEVENT
DTSTART;TZID=America/New_York:20241224T110000
DTEND;TZID=America/New_York:20241224T130000
DTSTAMP:20260420T000428
CREATED:20241130T162457Z
LAST-MODIFIED:20241130T162457Z
UID:14095-1735038000-1735045200@www.chesacanna.com
SUMMARY:VERANO POP-UP TUES. 12/24!
DESCRIPTION:DAY 12 OF 12 DAYS OF VENDORS: \nStop in on Tuesday\, December 24th from 11am-1pm for a vendor pop-up with our friends from Verano\, Encore\, & Savvy! A rep will be in the dispensary to talk about their products & giving out free swag to everyone! Plus we’ll have great discounts on Verano\, Encore\, & Savvy products\, ALL DAY!
URL:https://www.chesacanna.com/event/verano-pop-up-tues-12-24/
LOCATION:Chesacanna\, 10534 York Rd.\, Cockeysville\, MD\, 21030
END:VEVENT
END:VCALENDAR