BEGIN:VCALENDAR
VERSION:2.0
PRODID:-//Chesacanna - Enhanced Wellness - ECPv6.15.20//NONSGML v1.0//EN
CALSCALE:GREGORIAN
METHOD:PUBLISH
X-WR-CALNAME:Chesacanna - Enhanced Wellness
X-ORIGINAL-URL:https://www.chesacanna.com
X-WR-CALDESC:Events for Chesacanna - Enhanced Wellness
REFRESH-INTERVAL;VALUE=DURATION:PT1H
X-Robots-Tag:noindex
X-PUBLISHED-TTL:PT1H
BEGIN:VTIMEZONE
TZID:America/New_York
BEGIN:DAYLIGHT
TZOFFSETFROM:-0500
TZOFFSETTO:-0400
TZNAME:EDT
DTSTART:20230312T070000
END:DAYLIGHT
BEGIN:STANDARD
TZOFFSETFROM:-0400
TZOFFSETTO:-0500
TZNAME:EST
DTSTART:20231105T060000
END:STANDARD
BEGIN:DAYLIGHT
TZOFFSETFROM:-0500
TZOFFSETTO:-0400
TZNAME:EDT
DTSTART:20240310T070000
END:DAYLIGHT
BEGIN:STANDARD
TZOFFSETFROM:-0400
TZOFFSETTO:-0500
TZNAME:EST
DTSTART:20241103T060000
END:STANDARD
BEGIN:DAYLIGHT
TZOFFSETFROM:-0500
TZOFFSETTO:-0400
TZNAME:EDT
DTSTART:20250309T070000
END:DAYLIGHT
BEGIN:STANDARD
TZOFFSETFROM:-0400
TZOFFSETTO:-0500
TZNAME:EST
DTSTART:20251102T060000
END:STANDARD
END:VTIMEZONE
BEGIN:VEVENT
DTSTART;TZID=America/New_York:20241223T110000
DTEND;TZID=America/New_York:20241223T130000
DTSTAMP:20260420T000508
CREATED:20241130T162337Z
LAST-MODIFIED:20241130T162337Z
UID:14093-1734951600-1734958800@www.chesacanna.com
SUMMARY:1937/HICOLOR POP-UP MON. 12/23!
DESCRIPTION:DAY 11 OF 12 DAYS OF VENDORS: \nCome to Chesacanna on Monday\, December 23rd from 11am-1pm for a pop-up with our friends from 1937\, Hi Color\, HiAF\, Kings & Queens\, & Vireo! A rep will be here with swag\, educating everyone on their brands and products\, and we’ll have discounts on their products ALL DAY!
URL:https://www.chesacanna.com/event/1937-hicolor-pop-up-mon-12-23/
LOCATION:Chesacanna\, 10534 York Rd.\, Cockeysville\, MD\, 21030
END:VEVENT
END:VCALENDAR