BEGIN:VCALENDAR
VERSION:2.0
PRODID:-//Chesacanna - Enhanced Wellness - ECPv6.15.20//NONSGML v1.0//EN
CALSCALE:GREGORIAN
METHOD:PUBLISH
X-WR-CALNAME:Chesacanna - Enhanced Wellness
X-ORIGINAL-URL:https://www.chesacanna.com
X-WR-CALDESC:Events for Chesacanna - Enhanced Wellness
REFRESH-INTERVAL;VALUE=DURATION:PT1H
X-Robots-Tag:noindex
X-PUBLISHED-TTL:PT1H
BEGIN:VTIMEZONE
TZID:America/New_York
BEGIN:DAYLIGHT
TZOFFSETFROM:-0500
TZOFFSETTO:-0400
TZNAME:EDT
DTSTART:20230312T070000
END:DAYLIGHT
BEGIN:STANDARD
TZOFFSETFROM:-0400
TZOFFSETTO:-0500
TZNAME:EST
DTSTART:20231105T060000
END:STANDARD
BEGIN:DAYLIGHT
TZOFFSETFROM:-0500
TZOFFSETTO:-0400
TZNAME:EDT
DTSTART:20240310T070000
END:DAYLIGHT
BEGIN:STANDARD
TZOFFSETFROM:-0400
TZOFFSETTO:-0500
TZNAME:EST
DTSTART:20241103T060000
END:STANDARD
BEGIN:DAYLIGHT
TZOFFSETFROM:-0500
TZOFFSETTO:-0400
TZNAME:EDT
DTSTART:20250309T070000
END:DAYLIGHT
BEGIN:STANDARD
TZOFFSETFROM:-0400
TZOFFSETTO:-0500
TZNAME:EST
DTSTART:20251102T060000
END:STANDARD
END:VTIMEZONE
BEGIN:VEVENT
DTSTART;TZID=America/New_York:20241209T170000
DTEND;TZID=America/New_York:20241209T190000
DTSTAMP:20260419T221900
CREATED:20241130T153555Z
LAST-MODIFIED:20241130T153634Z
UID:14071-1733763600-1733770800@www.chesacanna.com
SUMMARY:SANTA'S WORKSHOP W/ SUNMED MON. 12/9!
DESCRIPTION:DAY 2 OF 12 DAYS OF VENORS: \nJoin us & our friends from SunMed Monday\, Dec. 12th from 5-7pm for a festive workshop where you can explore the world of THC-infused mocktails and indulge in a chocolate fondue fountain with an array of baked goods. Create your own holiday dessert box and learn delicious drink recipes using non-medicated samples from Sunnies by SunMed Growers. \nSunMed Growers is bringing a unique mixology class to Chesacanna that combines the art of crafting THC-infused mocktails with the fun of making chocolate covered treats! \nTickets are $10\, which includes a $10 in-store credit towards any dispensary purchase the day of the event. All attendees will receive $1 Sunnies Social Seltzer & $1 Sunnies 10mg Gummies 10ct! \nLimited spots available. \nCLICK HERE FOR TICKETS!
URL:https://www.chesacanna.com/event/santas-workshop-w-sunmed-mon-12-9/
LOCATION:Chesacanna\, 10534 York Rd.\, Cockeysville\, MD\, 21030
ATTACH;FMTTYPE=image/png:https://www.chesacanna.com/wp-content/uploads/2024/11/sunmed-santas-workshop-class-flyer-1920-x-1080-px-1.png
END:VEVENT
END:VCALENDAR