BEGIN:VCALENDAR
VERSION:2.0
PRODID:-//Chesacanna - Enhanced Wellness - ECPv6.15.20//NONSGML v1.0//EN
CALSCALE:GREGORIAN
METHOD:PUBLISH
X-WR-CALNAME:Chesacanna - Enhanced Wellness
X-ORIGINAL-URL:https://www.chesacanna.com
X-WR-CALDESC:Events for Chesacanna - Enhanced Wellness
REFRESH-INTERVAL;VALUE=DURATION:PT1H
X-Robots-Tag:noindex
X-PUBLISHED-TTL:PT1H
BEGIN:VTIMEZONE
TZID:America/New_York
BEGIN:DAYLIGHT
TZOFFSETFROM:-0500
TZOFFSETTO:-0400
TZNAME:EDT
DTSTART:20230312T070000
END:DAYLIGHT
BEGIN:STANDARD
TZOFFSETFROM:-0400
TZOFFSETTO:-0500
TZNAME:EST
DTSTART:20231105T060000
END:STANDARD
BEGIN:DAYLIGHT
TZOFFSETFROM:-0500
TZOFFSETTO:-0400
TZNAME:EDT
DTSTART:20240310T070000
END:DAYLIGHT
BEGIN:STANDARD
TZOFFSETFROM:-0400
TZOFFSETTO:-0500
TZNAME:EST
DTSTART:20241103T060000
END:STANDARD
BEGIN:DAYLIGHT
TZOFFSETFROM:-0500
TZOFFSETTO:-0400
TZNAME:EDT
DTSTART:20250309T070000
END:DAYLIGHT
BEGIN:STANDARD
TZOFFSETFROM:-0400
TZOFFSETTO:-0500
TZNAME:EST
DTSTART:20251102T060000
END:STANDARD
END:VTIMEZONE
BEGIN:VEVENT
DTSTART;TZID=America/New_York:20241122T110000
DTEND;TZID=America/New_York:20241122T130000
DTSTAMP:20260422T180435
CREATED:20241113T180039Z
LAST-MODIFIED:20241113T180039Z
UID:13995-1732273200-1732280400@www.chesacanna.com
SUMMARY:MATTER/LIV WELL POP-UP FRI. 11/22!
DESCRIPTION:Join us on Friday\, November 22nd from 11am-1pm\, for a vendor pop-up with our friends from Matter\, Liv Well\, #HASH\, & P3! They’ll be here educating everyone on all their strains & products\, plus giving out swag & we’ll have specials on their products ALL DAY!
URL:https://www.chesacanna.com/event/matter-liv-well-pop-up-fri-11-22/
LOCATION:Chesacanna\, 10534 York Rd.\, Cockeysville\, MD\, 21030
END:VEVENT
END:VCALENDAR