BEGIN:VCALENDAR
VERSION:2.0
PRODID:-//Chesacanna - Enhanced Wellness - ECPv6.15.20//NONSGML v1.0//EN
CALSCALE:GREGORIAN
METHOD:PUBLISH
X-ORIGINAL-URL:https://www.chesacanna.com
X-WR-CALDESC:Events for Chesacanna - Enhanced Wellness
REFRESH-INTERVAL;VALUE=DURATION:PT1H
X-Robots-Tag:noindex
X-PUBLISHED-TTL:PT1H
BEGIN:VTIMEZONE
TZID:America/New_York
BEGIN:DAYLIGHT
TZOFFSETFROM:-0500
TZOFFSETTO:-0400
TZNAME:EDT
DTSTART:20230312T070000
END:DAYLIGHT
BEGIN:STANDARD
TZOFFSETFROM:-0400
TZOFFSETTO:-0500
TZNAME:EST
DTSTART:20231105T060000
END:STANDARD
BEGIN:DAYLIGHT
TZOFFSETFROM:-0500
TZOFFSETTO:-0400
TZNAME:EDT
DTSTART:20240310T070000
END:DAYLIGHT
BEGIN:STANDARD
TZOFFSETFROM:-0400
TZOFFSETTO:-0500
TZNAME:EST
DTSTART:20241103T060000
END:STANDARD
BEGIN:DAYLIGHT
TZOFFSETFROM:-0500
TZOFFSETTO:-0400
TZNAME:EDT
DTSTART:20250309T070000
END:DAYLIGHT
BEGIN:STANDARD
TZOFFSETFROM:-0400
TZOFFSETTO:-0500
TZNAME:EST
DTSTART:20251102T060000
END:STANDARD
END:VTIMEZONE
BEGIN:VEVENT
DTSTART;TZID=America/New_York:20240419T090000
DTEND;TZID=America/New_York:20240421T180000
DTSTAMP:20260422T103913
CREATED:20240414T180305Z
LAST-MODIFIED:20240414T180305Z
UID:12772-1713517200-1713722400@www.chesacanna.com
SUMMARY:420 @ Chesacanna!
DESCRIPTION:Celebrate 4/20 with Chesacanna 4/19 thru 4/21!\nCome to Chesacanna to celebrate the high holiday and enjoy: \n– FREE Limited Edition Chesacanna 420 T-Shirt (while supplies last) \n– Product Giveaways + Glass & Swag Raffles – \n– Brand Pop-Ups with FREE Swag – \n– Vagabond Food Truck 11am-3pm –  \n– Chesacanna’s 420 Scavenger Hunt Kickoff –  \n– PLUS MUCH MORE! –
URL:https://www.chesacanna.com/event/420-chesacanna/
LOCATION:Chesacanna\, 10534 York Rd.\, Cockeysville\, MD\, 21030
ORGANIZER;CN="Chesacanna":MAILTO:info@chesacanna.com
END:VEVENT
BEGIN:VEVENT
DTSTART;TZID=America/New_York:20240419T110000
DTEND;TZID=America/New_York:20240419T130000
DTSTAMP:20260422T103913
CREATED:20240404T182600Z
LAST-MODIFIED:20240404T182618Z
UID:12717-1713524400-1713531600@www.chesacanna.com
SUMMARY:CURIO POP-UP FRI. 4/19!
DESCRIPTION:Join us on Friday April 19th from 11am-1pm for a vendor pop-up with Curio\, Happy Eddie\, Edie Parker\, Fuzed\, & Smokiez! A rep will be here educating everyone about their strains and products\, plus free swag and discounts on Curio products ALL DAY!
URL:https://www.chesacanna.com/event/12717/
LOCATION:Chesacanna\, 10534 YORK ROAD\, COCKEYSVILLE\, MD\, 21030\, United States
END:VEVENT
END:VCALENDAR