BEGIN:VCALENDAR
VERSION:2.0
PRODID:-//Chesacanna - Enhanced Wellness - ECPv6.15.20//NONSGML v1.0//EN
CALSCALE:GREGORIAN
METHOD:PUBLISH
X-WR-CALNAME:Chesacanna - Enhanced Wellness
X-ORIGINAL-URL:https://www.chesacanna.com
X-WR-CALDESC:Events for Chesacanna - Enhanced Wellness
REFRESH-INTERVAL;VALUE=DURATION:PT1H
X-Robots-Tag:noindex
X-PUBLISHED-TTL:PT1H
BEGIN:VTIMEZONE
TZID:America/New_York
BEGIN:DAYLIGHT
TZOFFSETFROM:-0500
TZOFFSETTO:-0400
TZNAME:EDT
DTSTART:20230312T070000
END:DAYLIGHT
BEGIN:STANDARD
TZOFFSETFROM:-0400
TZOFFSETTO:-0500
TZNAME:EST
DTSTART:20231105T060000
END:STANDARD
BEGIN:DAYLIGHT
TZOFFSETFROM:-0500
TZOFFSETTO:-0400
TZNAME:EDT
DTSTART:20240310T070000
END:DAYLIGHT
BEGIN:STANDARD
TZOFFSETFROM:-0400
TZOFFSETTO:-0500
TZNAME:EST
DTSTART:20241103T060000
END:STANDARD
BEGIN:DAYLIGHT
TZOFFSETFROM:-0500
TZOFFSETTO:-0400
TZNAME:EDT
DTSTART:20250309T070000
END:DAYLIGHT
BEGIN:STANDARD
TZOFFSETFROM:-0400
TZOFFSETTO:-0500
TZNAME:EST
DTSTART:20251102T060000
END:STANDARD
END:VTIMEZONE
BEGIN:VEVENT
DTSTART;TZID=America/New_York:20240301T120000
DTEND;TZID=America/New_York:20240301T140000
DTSTAMP:20260423T011258
CREATED:20240226T193223Z
LAST-MODIFIED:20240227T161039Z
UID:12473-1709294400-1709301600@www.chesacanna.com
SUMMARY:SUNMED POP-UP FRI. 3/1!
DESCRIPTION:Join us on Friday\, March 1st from 12pm-2pm\, for a vendor pop-up with our friends from SunMed Growers & SunMed Labs! They’ll be here educating everyone on all their strains & products\, including their new line of concentrates from SunMed Labs\, plus giving out swag & we’ll have specials on their products ALL DAY!
URL:https://www.chesacanna.com/event/sunmed-pop-up-mon-3-4/
LOCATION:Chesacanna\, 10534 York Rd.\, Cockeysville\, MD\, 21030
END:VEVENT
BEGIN:VEVENT
DTSTART;TZID=America/New_York:20240301T150000
DTEND;TZID=America/New_York:20240301T170000
DTSTAMP:20260423T011258
CREATED:20240206T204303Z
LAST-MODIFIED:20240206T204303Z
UID:12363-1709305200-1709312400@www.chesacanna.com
SUMMARY:BEEZLE POP-UP FRI. 3/1!
DESCRIPTION:Come to Chesacanna on Friday\, March 1st from 3pm-5pm for a pop-up with our friends from Beezle! A rep will be here with swag\, educating everyone on their brands and products\, and we’ll have discounts on their products ALL DAY!
URL:https://www.chesacanna.com/event/beezle-pop-up-fri-3-1/
LOCATION:Chesacanna\, 10534 York Rd.\, Cockeysville\, MD\, 21030
END:VEVENT
END:VCALENDAR