BEGIN:VCALENDAR
VERSION:2.0
PRODID:-//Chesacanna - Enhanced Wellness - ECPv6.15.20//NONSGML v1.0//EN
CALSCALE:GREGORIAN
METHOD:PUBLISH
X-WR-CALNAME:Chesacanna - Enhanced Wellness
X-ORIGINAL-URL:https://www.chesacanna.com
X-WR-CALDESC:Events for Chesacanna - Enhanced Wellness
REFRESH-INTERVAL;VALUE=DURATION:PT1H
X-Robots-Tag:noindex
X-PUBLISHED-TTL:PT1H
BEGIN:VTIMEZONE
TZID:America/New_York
BEGIN:DAYLIGHT
TZOFFSETFROM:-0500
TZOFFSETTO:-0400
TZNAME:EDT
DTSTART:20220313T070000
END:DAYLIGHT
BEGIN:STANDARD
TZOFFSETFROM:-0400
TZOFFSETTO:-0500
TZNAME:EST
DTSTART:20221106T060000
END:STANDARD
BEGIN:DAYLIGHT
TZOFFSETFROM:-0500
TZOFFSETTO:-0400
TZNAME:EDT
DTSTART:20230312T070000
END:DAYLIGHT
BEGIN:STANDARD
TZOFFSETFROM:-0400
TZOFFSETTO:-0500
TZNAME:EST
DTSTART:20231105T060000
END:STANDARD
BEGIN:DAYLIGHT
TZOFFSETFROM:-0500
TZOFFSETTO:-0400
TZNAME:EDT
DTSTART:20240310T070000
END:DAYLIGHT
BEGIN:STANDARD
TZOFFSETFROM:-0400
TZOFFSETTO:-0500
TZNAME:EST
DTSTART:20241103T060000
END:STANDARD
END:VTIMEZONE
BEGIN:VEVENT
DTSTART;TZID=America/New_York:20231220T140000
DTEND;TZID=America/New_York:20231220T160000
DTSTAMP:20260420T100127
CREATED:20231127T164257Z
LAST-MODIFIED:20231201T205521Z
UID:11859-1703080800-1703088000@www.chesacanna.com
SUMMARY:BETTY'S EDDIES/NATURE'S HERITAGE POP-UP WED. 12/20!
DESCRIPTION:12 Days of Vendors: Day 10 \nCome to Chesacanna on Wednesday\, Dec. 20th from 2pm-4pm for a pop-up with our friends from Betty’s Eddies\, Nature’s Heritage\, Bubby’s Baked\, In House & Vibations! A rep will be here with swag\, educating patients on their brands and products\, and we’ll have discounts on their products ALL DAY!
URL:https://www.chesacanna.com/event/bettys-eddies-natures-heritage-pop-up-wed-12-20/
LOCATION:Chesacanna\, 10534 YORK ROAD\, COCKEYSVILLE\, MD\, 21030\, United States
END:VEVENT
END:VCALENDAR