BEGIN:VCALENDAR
VERSION:2.0
PRODID:-//Chesacanna - Enhanced Wellness - ECPv6.15.20//NONSGML v1.0//EN
CALSCALE:GREGORIAN
METHOD:PUBLISH
X-ORIGINAL-URL:https://www.chesacanna.com
X-WR-CALDESC:Events for Chesacanna - Enhanced Wellness
REFRESH-INTERVAL;VALUE=DURATION:PT1H
X-Robots-Tag:noindex
X-PUBLISHED-TTL:PT1H
BEGIN:VTIMEZONE
TZID:America/New_York
BEGIN:DAYLIGHT
TZOFFSETFROM:-0500
TZOFFSETTO:-0400
TZNAME:EDT
DTSTART:20200308T070000
END:DAYLIGHT
BEGIN:STANDARD
TZOFFSETFROM:-0400
TZOFFSETTO:-0500
TZNAME:EST
DTSTART:20201101T060000
END:STANDARD
BEGIN:DAYLIGHT
TZOFFSETFROM:-0500
TZOFFSETTO:-0400
TZNAME:EDT
DTSTART:20210314T070000
END:DAYLIGHT
BEGIN:STANDARD
TZOFFSETFROM:-0400
TZOFFSETTO:-0500
TZNAME:EST
DTSTART:20211107T060000
END:STANDARD
BEGIN:DAYLIGHT
TZOFFSETFROM:-0500
TZOFFSETTO:-0400
TZNAME:EDT
DTSTART:20220313T070000
END:DAYLIGHT
BEGIN:STANDARD
TZOFFSETFROM:-0400
TZOFFSETTO:-0500
TZNAME:EST
DTSTART:20221106T060000
END:STANDARD
END:VTIMEZONE
BEGIN:VEVENT
DTSTART;TZID=America/New_York:20210710T100000
DTEND;TZID=America/New_York:20210710T180000
DTSTAMP:20260419T221954
CREATED:20210606T134738Z
LAST-MODIFIED:20210623T175905Z
UID:6628-1625911200-1625940000@www.chesacanna.com
SUMMARY:710 at Chesacanna!
DESCRIPTION:710/OIL DAY at Chesacanna! \nSaturday July 7th\, 2021! \n7/10 is right around the corner. So if you are in town plan to celebrate with us! Doors open at 10am. Spend $150 either in the wellness shop or the Dispensary and receive a FREE Cheasacanna commemorative 710 t-shirt. Enjoy deals in the Dispensary and Wellness shop ALL DAY! \nFrom 11am – 3pm plan to join us outside and come ready to shop! Local vendors will be set up in our lower lot with items like wooden stash boxes\, one of a kind tie dye shirts\, handmade soap\, jewelry\, mala beads\, and much more! \nHang out with friends and enjoy live music compliments of Whiskey Feathers Band\, food from Dizzy Cow Pizza will be on-site for you to purchase. Play some corn hole or giant Jenga on this fun and relaxing afternoon! \nENTER OUR PUFFCO PEAK RAFFLE:\nMake ANY purchase in the Dispensary or Wellness Shop\, and receive a raffle ticket to WIN a Puffco Peak! The winner will be drawn on Monday 7/12. \nFREE GIFT FOR CHESACANNA.COM ONLINE ORDERS!\nReceive a FREE Gift when you place your order online at www.chesacanna.com/menu only! \n 
URL:https://www.chesacanna.com/event/710-at-chesacanna/
LOCATION:Chesacanna\, 10534 York Rd.\, Cockeysville\, MD\, 21030
ORGANIZER;CN="Chesacanna":MAILTO:info@chesacanna.com
END:VEVENT
END:VCALENDAR