BEGIN:VCALENDAR
VERSION:2.0
PRODID:-//Chesacanna - Enhanced Wellness - ECPv6.15.20//NONSGML v1.0//EN
CALSCALE:GREGORIAN
METHOD:PUBLISH
X-WR-CALNAME:Chesacanna - Enhanced Wellness
X-ORIGINAL-URL:https://www.chesacanna.com
X-WR-CALDESC:Events for Chesacanna - Enhanced Wellness
REFRESH-INTERVAL;VALUE=DURATION:PT1H
X-Robots-Tag:noindex
X-PUBLISHED-TTL:PT1H
BEGIN:VTIMEZONE
TZID:America/New_York
BEGIN:DAYLIGHT
TZOFFSETFROM:-0500
TZOFFSETTO:-0400
TZNAME:EDT
DTSTART:20190310T070000
END:DAYLIGHT
BEGIN:STANDARD
TZOFFSETFROM:-0400
TZOFFSETTO:-0500
TZNAME:EST
DTSTART:20191103T060000
END:STANDARD
BEGIN:DAYLIGHT
TZOFFSETFROM:-0500
TZOFFSETTO:-0400
TZNAME:EDT
DTSTART:20200308T070000
END:DAYLIGHT
BEGIN:STANDARD
TZOFFSETFROM:-0400
TZOFFSETTO:-0500
TZNAME:EST
DTSTART:20201101T060000
END:STANDARD
BEGIN:DAYLIGHT
TZOFFSETFROM:-0500
TZOFFSETTO:-0400
TZNAME:EDT
DTSTART:20210314T070000
END:DAYLIGHT
BEGIN:STANDARD
TZOFFSETFROM:-0400
TZOFFSETTO:-0500
TZNAME:EST
DTSTART:20211107T060000
END:STANDARD
END:VTIMEZONE
BEGIN:VEVENT
DTSTART;TZID=America/New_York:20201017T113000
DTEND;TZID=America/New_York:20201017T160000
DTSTAMP:20260424T111159
CREATED:20200906T131146Z
LAST-MODIFIED:20200917T143025Z
UID:4694-1602934200-1602950400@www.chesacanna.com
SUMMARY:Canna Class: Sleep and Fall Fest
DESCRIPTION:CannaClass Returns! \nSaturday October\, 17 from 11:30am – 4pm \nTICKETS: $5 holds your seat and a pumpkin to decorate!\nFrom 11:30am – 1pm: Marc Spataro\, owner of Chesacanna and Fitnology\, will be speaking about Sleep. \nCanna Class is Back! Join us for an informative class on sleep. Class starts at 11:30am -1:00pm. During this class\, settle in and sit back as the owner of Chescanna and Fitnology Gym\, Marc Spataro goes over four key steps to finding a better nights sleep. He will go over these key points during this class and you will leave with the tips you need to gain a better nights sleep. The class portion is $5.00 to reserve your seat. Each class participant will recieve a mini pumpkin to paint that day and take home. \nCan’t make it to class? From 1:00pm-4:00pm join us outside in the parking lot for a layed back afternoon. Bring your own blanket or lawn chair to enjoy live music and Boss Burger Food truck. Learn how to roll a hemp joint station – complete with instruction\, an art station as well as various lawn games\, such as Corn Hole\, Kan Jam and Spike Ball to enjoy. \nMake a day of this great class and fun filled afternoon as we bring Canna Classes back and enjoy the fall weather outdoors. We hope to see you for the class and festivities. \nCLICK HERE FOR TICKETS
URL:https://www.chesacanna.com/event/cannaclass-10-17-20/
LOCATION:Chesacanna\, 10534 York Rd.\, Cockeysville\, MD\, 21030
ORGANIZER;CN="Chesacanna":MAILTO:info@chesacanna.com
END:VEVENT
END:VCALENDAR