BEGIN:VCALENDAR
VERSION:2.0
PRODID:-//Chesacanna - Enhanced Wellness - ECPv6.15.20//NONSGML v1.0//EN
CALSCALE:GREGORIAN
METHOD:PUBLISH
X-WR-CALNAME:Chesacanna - Enhanced Wellness
X-ORIGINAL-URL:https://www.chesacanna.com
X-WR-CALDESC:Events for Chesacanna - Enhanced Wellness
REFRESH-INTERVAL;VALUE=DURATION:PT1H
X-Robots-Tag:noindex
X-PUBLISHED-TTL:PT1H
BEGIN:VTIMEZONE
TZID:America/New_York
BEGIN:DAYLIGHT
TZOFFSETFROM:-0500
TZOFFSETTO:-0400
TZNAME:EDT
DTSTART:20190310T070000
END:DAYLIGHT
BEGIN:STANDARD
TZOFFSETFROM:-0400
TZOFFSETTO:-0500
TZNAME:EST
DTSTART:20191103T060000
END:STANDARD
BEGIN:DAYLIGHT
TZOFFSETFROM:-0500
TZOFFSETTO:-0400
TZNAME:EDT
DTSTART:20200308T070000
END:DAYLIGHT
BEGIN:STANDARD
TZOFFSETFROM:-0400
TZOFFSETTO:-0500
TZNAME:EST
DTSTART:20201101T060000
END:STANDARD
BEGIN:DAYLIGHT
TZOFFSETFROM:-0500
TZOFFSETTO:-0400
TZNAME:EDT
DTSTART:20210314T070000
END:DAYLIGHT
BEGIN:STANDARD
TZOFFSETFROM:-0400
TZOFFSETTO:-0500
TZNAME:EST
DTSTART:20211107T060000
END:STANDARD
END:VTIMEZONE
BEGIN:VEVENT
DTSTART;TZID=America/New_York:20200219T163000
DTEND;TZID=America/New_York:20200219T183000
DTSTAMP:20260419T161242
CREATED:20200122T192055Z
LAST-MODIFIED:20200123T201311Z
UID:3323-1582129800-1582137000@www.chesacanna.com
SUMMARY:Flower 101 w/ Emily & Devin
DESCRIPTION:  \nNeed the 101 on Cannabis Flower?\nIn-house educators\, Devin Holihan and Emily Bennett\, will show us the basics of cannabis flower\, consumption methods\, with education on flower and accessories care. This event takes place at Chesacanna with an in depth Q&A session with our knowledgeable staff.\n  \nALL PARTICIPANTS RECIEVE: \nExclusive Deals on Flower and Accessories  \n$5 Credit Towards Any Purchase  \nStep-By-Step Instructions To Go Home With & Lots Of Products To Choose From!  \n  \nMMCC CARD NOT REQUIRED FOR THIS EVENT
URL:https://www.chesacanna.com/event/flower-101-w-emily-devin/
LOCATION:Chesacanna\, 10534 York Rd.\, Cockeysville\, MD\, 21030
ORGANIZER;CN="Chesacanna":MAILTO:info@chesacanna.com
END:VEVENT
END:VCALENDAR