BEGIN:VCALENDAR
VERSION:2.0
PRODID:-//Chesacanna - Enhanced Wellness - ECPv6.15.20//NONSGML v1.0//EN
CALSCALE:GREGORIAN
METHOD:PUBLISH
X-WR-CALNAME:Chesacanna - Enhanced Wellness
X-ORIGINAL-URL:https://www.chesacanna.com
X-WR-CALDESC:Events for Chesacanna - Enhanced Wellness
REFRESH-INTERVAL;VALUE=DURATION:PT1H
X-Robots-Tag:noindex
X-PUBLISHED-TTL:PT1H
BEGIN:VTIMEZONE
TZID:America/New_York
BEGIN:DAYLIGHT
TZOFFSETFROM:-0500
TZOFFSETTO:-0400
TZNAME:EDT
DTSTART:20190310T070000
END:DAYLIGHT
BEGIN:STANDARD
TZOFFSETFROM:-0400
TZOFFSETTO:-0500
TZNAME:EST
DTSTART:20191103T060000
END:STANDARD
BEGIN:DAYLIGHT
TZOFFSETFROM:-0500
TZOFFSETTO:-0400
TZNAME:EDT
DTSTART:20200308T070000
END:DAYLIGHT
BEGIN:STANDARD
TZOFFSETFROM:-0400
TZOFFSETTO:-0500
TZNAME:EST
DTSTART:20201101T060000
END:STANDARD
BEGIN:DAYLIGHT
TZOFFSETFROM:-0500
TZOFFSETTO:-0400
TZNAME:EDT
DTSTART:20210314T070000
END:DAYLIGHT
BEGIN:STANDARD
TZOFFSETFROM:-0400
TZOFFSETTO:-0500
TZNAME:EST
DTSTART:20211107T060000
END:STANDARD
END:VTIMEZONE
BEGIN:VEVENT
DTSTART;TZID=America/New_York:20200208T090000
DTEND;TZID=America/New_York:20200213T190000
DTSTAMP:20260423T131719
CREATED:20200124T183808Z
LAST-MODIFIED:20200124T183859Z
UID:3367-1581152400-1581620400@www.chesacanna.com
SUMMARY:Valentine's Day Love Buds Giveaway
DESCRIPTION:Chesacanna Presents\nThe Valentine’s Day Love Buds Giveaway\nFeb 8th – 13th\nHow to Enter:\nGet one raffle ticket for each event attended this week including Glowing Gals Workshop\, Twisted Truffles\, Grounding The Heart: Meditation.\nGet one raffle ticket with a purchase of the “Love Buds” cannabis special (limit one ticket per day)\nWinners will be notified on Thursday Feb 13th\, 2020\nThree prizes: 1 large basket\, one wine & chocolate\, 1 dozen roses
URL:https://www.chesacanna.com/event/valentines-day-love-buds-giveaway/
LOCATION:Chesacanna\, 10534 York Rd.\, Cockeysville\, MD\, 21030
ORGANIZER;CN="Chesacanna":MAILTO:info@chesacanna.com
END:VEVENT
BEGIN:VEVENT
DTSTART;TZID=America/New_York:20200211T170000
DTEND;TZID=America/New_York:20200211T190000
DTSTAMP:20260423T131719
CREATED:20200121T214915Z
LAST-MODIFIED:20200127T174805Z
UID:3315-1581440400-1581447600@www.chesacanna.com
SUMMARY:Twisted Truffle Class
DESCRIPTION:Do You Love Chocolate? Chesacanna Is Feeling The Love For Valentines!\n  \nCome join us on February 11th\, 5:00 – 7:00pm for a CBD infused truffle making demonstration with Lisa Gregory. You may know Lisa and her delicious pastries from the Hereford Farmer’s Market and the Contented Rooster Farm in Parkton\, Md. \n  \nLisa will demonstrate the art of truffle making from start to finish.  During this 2hr hands on event\, you will have the opportunity to make this delicious treat for you\, and your favorite valentine. Our knowledgeable staff will demonstrate for you how to infuse hemp derived CBD into your truffles.  You will have an opportunity to roll your own truffles in a variety of coatings and infuse them with our hemp derived CBD oil. Learn how you could infuse your truffles with cannabis at home with our take home tips. Ticket includes\, truffles\, take home recipe\, hands-on practice to make your own batch of truffles at home\, and one entry into the Valentines Day Basket giveaway. \nStay Connected: \nFacebook: https://www.facebook.com/Chesacanna/\nChesacanna Dispensary Instagram: @chesacanna_deli\nChesacanna Wellness Shop Instagram: @chesacanna_wellness\n \nInstagram: @contentedrooster\nFacebook: www.facebook.com/thecontentedrooster
URL:https://www.chesacanna.com/event/twisted-truffle-class/
LOCATION:Chesacanna\, 10534 York Rd.\, Cockeysville\, MD\, 21030
ORGANIZER;CN="Chesacanna":MAILTO:info@chesacanna.com
END:VEVENT
END:VCALENDAR