BEGIN:VCALENDAR
VERSION:2.0
PRODID:-//Chesacanna - Enhanced Wellness - ECPv6.15.20//NONSGML v1.0//EN
CALSCALE:GREGORIAN
METHOD:PUBLISH
X-ORIGINAL-URL:https://www.chesacanna.com
X-WR-CALDESC:Events for Chesacanna - Enhanced Wellness
REFRESH-INTERVAL;VALUE=DURATION:PT1H
X-Robots-Tag:noindex
X-PUBLISHED-TTL:PT1H
BEGIN:VTIMEZONE
TZID:America/New_York
BEGIN:DAYLIGHT
TZOFFSETFROM:-0500
TZOFFSETTO:-0400
TZNAME:EDT
DTSTART:20190310T070000
END:DAYLIGHT
BEGIN:STANDARD
TZOFFSETFROM:-0400
TZOFFSETTO:-0500
TZNAME:EST
DTSTART:20191103T060000
END:STANDARD
BEGIN:DAYLIGHT
TZOFFSETFROM:-0500
TZOFFSETTO:-0400
TZNAME:EDT
DTSTART:20200308T070000
END:DAYLIGHT
BEGIN:STANDARD
TZOFFSETFROM:-0400
TZOFFSETTO:-0500
TZNAME:EST
DTSTART:20201101T060000
END:STANDARD
BEGIN:DAYLIGHT
TZOFFSETFROM:-0500
TZOFFSETTO:-0400
TZNAME:EDT
DTSTART:20210314T070000
END:DAYLIGHT
BEGIN:STANDARD
TZOFFSETFROM:-0400
TZOFFSETTO:-0500
TZNAME:EST
DTSTART:20211107T060000
END:STANDARD
END:VTIMEZONE
BEGIN:VEVENT
DTSTART;TZID=America/New_York:20200115T163000
DTEND;TZID=America/New_York:20200115T180000
DTSTAMP:20260422T064637
CREATED:20191227T232349Z
LAST-MODIFIED:20200102T211522Z
UID:3159-1579105800-1579111200@www.chesacanna.com
SUMMARY:The 411 On Dabs
DESCRIPTION:Need the dabbing 411? \nIn-house educators\, Devin Holihan and Emily Bennett\, will show us the basics of dabbing\, proper usage\, dosage and how-to’s of medicating with dabbing. How to upgrade your dab rig to fit your needs! \n  \nYOU WILL LEARN: \nHow to Dab (with a traditional dab rig and upgrade options review) \nWhat are the different forms of concentrates? \nWhat are your options for consuming concentrates? \nWhat is… \nWax & Budder \nShatter \nLive Resin \nCO2 Oil \nDistillates \nRSO \n  \nALL PARTICIPANTS RECIEVE: \n           %15 OFF ALL Concentrate Dabbables and Accessories\n \n  \n            $5 Credit Towards Any Purchase   \n             Step-By-Step Instructions To Go Home With & Lots Of Products To Choose From!  \n  \nMMCC CARD NOT REQUIRED FOR THIS EVENT \n  \nClick Here for more information
URL:https://www.chesacanna.com/event/3159/
LOCATION:Chesacanna\, 10534 YORK ROAD\, COCKEYSVILLE\, MD\, 21030\, United States
ORGANIZER;CN="Chesacanna":MAILTO:info@chesacanna.com
END:VEVENT
END:VCALENDAR