BEGIN:VCALENDAR
VERSION:2.0
PRODID:-//Chesacanna - Enhanced Wellness - ECPv6.15.20//NONSGML v1.0//EN
CALSCALE:GREGORIAN
METHOD:PUBLISH
X-WR-CALNAME:Chesacanna - Enhanced Wellness
X-ORIGINAL-URL:https://www.chesacanna.com
X-WR-CALDESC:Events for Chesacanna - Enhanced Wellness
REFRESH-INTERVAL;VALUE=DURATION:PT1H
X-Robots-Tag:noindex
X-PUBLISHED-TTL:PT1H
BEGIN:VTIMEZONE
TZID:America/New_York
BEGIN:DAYLIGHT
TZOFFSETFROM:-0500
TZOFFSETTO:-0400
TZNAME:EDT
DTSTART:20180311T070000
END:DAYLIGHT
BEGIN:STANDARD
TZOFFSETFROM:-0400
TZOFFSETTO:-0500
TZNAME:EST
DTSTART:20181104T060000
END:STANDARD
BEGIN:DAYLIGHT
TZOFFSETFROM:-0500
TZOFFSETTO:-0400
TZNAME:EDT
DTSTART:20190310T070000
END:DAYLIGHT
BEGIN:STANDARD
TZOFFSETFROM:-0400
TZOFFSETTO:-0500
TZNAME:EST
DTSTART:20191103T060000
END:STANDARD
BEGIN:DAYLIGHT
TZOFFSETFROM:-0500
TZOFFSETTO:-0400
TZNAME:EDT
DTSTART:20200308T070000
END:DAYLIGHT
BEGIN:STANDARD
TZOFFSETFROM:-0400
TZOFFSETTO:-0500
TZNAME:EST
DTSTART:20201101T060000
END:STANDARD
END:VTIMEZONE
BEGIN:VEVENT
DTSTART;TZID=America/New_York:20190213T183000
DTEND;TZID=America/New_York:20190213T203000
DTSTAMP:20260422T184829
CREATED:20190112T221403Z
LAST-MODIFIED:20190112T221551Z
UID:2252-1550082600-1550089800@www.chesacanna.com
SUMMARY:Heart-centered Intention Meditation featuring Rose Quartz
DESCRIPTION:A heart-centered intention meditation featuring rose quartz. \nMeditation\, cold-pressed raw juice mocktails by Plantbar & take home a chunk of rose quartz. \nDiscover the qualities of rose quartz in relation to love energy in bagua. \nA continuance of “Clear The Way” quartz crystal intention meditation. All are welcome to jump in a set your meaningful intentions. \n$10 per person.
URL:https://www.chesacanna.com/event/heart-centered-intention-meditation-featuring-rose-quartz/
LOCATION:MD
END:VEVENT
END:VCALENDAR